BEGIN:VCALENDAR
VERSION:2.0
PRODID:-//CANACO Servitur Juárez - ECPv6.15.20//NONSGML v1.0//EN
CALSCALE:GREGORIAN
METHOD:PUBLISH
X-ORIGINAL-URL:https://canacojuarez.com
X-WR-CALDESC:Eventos para CANACO Servitur Juárez
REFRESH-INTERVAL;VALUE=DURATION:PT1H
X-Robots-Tag:noindex
X-PUBLISHED-TTL:PT1H
BEGIN:VTIMEZONE
TZID:UTC
BEGIN:STANDARD
TZOFFSETFROM:+0000
TZOFFSETTO:+0000
TZNAME:UTC
DTSTART:20240101T000000
END:STANDARD
END:VTIMEZONE
BEGIN:VEVENT
DTSTART;TZID=UTC:20251010T090000
DTEND;TZID=UTC:20251010T130000
DTSTAMP:20260424T001352
CREATED:20251002T232800Z
LAST-MODIFIED:20251002T232800Z
UID:7411-1760086800-1760101200@canacojuarez.com
SUMMARY:2do Foro Empresarial: Discriminación\, jornadas y otros riesgos legales en la empresa
DESCRIPTION:
URL:https://canacojuarez.com/curso/2do-foro-empresarial-discriminacion-jornadas-y-otros-riesgos-legales-en-la-empresa/
END:VEVENT
BEGIN:VEVENT
DTSTART;TZID=UTC:20251016T090000
DTEND;TZID=UTC:20251016T130000
DTSTAMP:20260424T001352
CREATED:20251002T221818Z
LAST-MODIFIED:20251002T221818Z
UID:7399-1760605200-1760619600@canacojuarez.com
SUMMARY:Prevención de incendios y manejo de exteriores
DESCRIPTION:
URL:https://canacojuarez.com/curso/prevencion-de-incendios-y-manejo-de-exteriores/
LOCATION:CANACO Juárez\, Henry Dunant 4505\, Ciudad Juárez\, Chihuahua\, 32340\, Mexico
END:VEVENT
BEGIN:VEVENT
DTSTART;TZID=UTC:20251023T090000
DTEND;TZID=UTC:20251023T130000
DTSTAMP:20260424T001352
CREATED:20251002T222524Z
LAST-MODIFIED:20251002T222524Z
UID:7402-1761210000-1761224400@canacojuarez.com
SUMMARY:Blindaje fiscal y antilavado: como proteger tu empresa ante el super SAT
DESCRIPTION:
URL:https://canacojuarez.com/curso/blindaje-fiscal-y-antilavado-como-proteger-tu-empresa-ante-el-super-sat/
LOCATION:CANACO Juárez\, Henry Dunant 4505\, Ciudad Juárez\, Chihuahua\, 32340\, Mexico
END:VEVENT
BEGIN:VEVENT
DTSTART;TZID=UTC:20251028T090000
DTEND;TZID=UTC:20251028T130000
DTSTAMP:20260424T001352
CREATED:20251014T165337Z
LAST-MODIFIED:20251014T165337Z
UID:7415-1761642000-1761656400@canacojuarez.com
SUMMARY:1er Foro de Salud Mental Empresarial
DESCRIPTION:
URL:https://canacojuarez.com/curso/1er-foro-de-salud-mental-empresarial/
LOCATION:Edificio CEPIA\, Manuel Díaz H. 520 Zona Pronaf Condominio La Plata\, Juárez\, Chihuahua\, 32315\, Mexico
END:VEVENT
BEGIN:VEVENT
DTSTART;TZID=UTC:20251028T130000
DTEND;TZID=UTC:20251028T160000
DTSTAMP:20260424T001352
CREATED:20251002T223252Z
LAST-MODIFIED:20251028T010003Z
UID:7405-1761656400-1761667200@canacojuarez.com
SUMMARY:Clima laboral y cultura organizacional: impulsando equipos de alto rendimiento
DESCRIPTION:
URL:https://canacojuarez.com/curso/clima-laboral-y-cultura-organizacional-impulsando-equipos-de-alto-rendimiento/
LOCATION:CANACO Juárez\, Henry Dunant 4505\, Ciudad Juárez\, Chihuahua\, 32340\, Mexico
END:VEVENT
BEGIN:VEVENT
DTSTART;TZID=UTC:20251030T090000
DTEND;TZID=UTC:20251030T130000
DTSTAMP:20260424T001352
CREATED:20251002T223411Z
LAST-MODIFIED:20251002T223411Z
UID:7408-1761814800-1761829200@canacojuarez.com
SUMMARY:Fortaleciendo el rol de supervisores y mandos medios
DESCRIPTION:
URL:https://canacojuarez.com/curso/fortaleciendo-el-rol-de-supervisores-y-mandos-medios/
LOCATION:CANACO Juárez\, Henry Dunant 4505\, Ciudad Juárez\, Chihuahua\, 32340\, Mexico
END:VEVENT
BEGIN:VEVENT
DTSTART;TZID=UTC:20251120T090000
DTEND;TZID=UTC:20251120T103000
DTSTAMP:20260424T001352
CREATED:20251118T162851Z
LAST-MODIFIED:20251118T162851Z
UID:7441-1763629200-1763634600@canacojuarez.com
SUMMARY:Conferencia: ¿Pensiones con modalidad 40? ¡Cuidado!
DESCRIPTION:
URL:https://canacojuarez.com/curso/conferencia-pensiones-con-modalidad-40-cuidado/
LOCATION:CANACO Juárez\, Henry Dunant 4505\, Ciudad Juárez\, Chihuahua\, 32340\, Mexico
END:VEVENT
BEGIN:VEVENT
DTSTART;TZID=UTC:20251120T113000
DTEND;TZID=UTC:20251120T140000
DTSTAMP:20260424T001352
CREATED:20251118T163101Z
LAST-MODIFIED:20251118T163101Z
UID:7444-1763638200-1763647200@canacojuarez.com
SUMMARY:Gestión inteligente de las MiPyMES
DESCRIPTION:
URL:https://canacojuarez.com/curso/gestion-inteligente-de-las-mipymes/
LOCATION:CANACO Juárez\, Henry Dunant 4505\, Ciudad Juárez\, Chihuahua\, 32340\, Mexico
END:VEVENT
BEGIN:VEVENT
DTSTART;TZID=UTC:20251122T090000
DTEND;TZID=UTC:20251122T150000
DTSTAMP:20260424T001352
CREATED:20251118T163239Z
LAST-MODIFIED:20251118T163239Z
UID:7447-1763802000-1763823600@canacojuarez.com
SUMMARY:Privación de la libertad
DESCRIPTION:
URL:https://canacojuarez.com/curso/privacion-de-la-libertad/
LOCATION:CANACO Juárez\, Henry Dunant 4505\, Ciudad Juárez\, Chihuahua\, 32340\, Mexico
END:VEVENT
BEGIN:VEVENT
DTSTART;TZID=UTC:20251124T130000
DTEND;TZID=UTC:20251124T160000
DTSTAMP:20260424T001352
CREATED:20251118T160524Z
LAST-MODIFIED:20251118T162511Z
UID:7435-1763989200-1764000000@canacojuarez.com
SUMMARY:Como reclutar\, seleccionar y fortalecer equipos con habilidades directas
DESCRIPTION:
URL:https://canacojuarez.com/curso/como-reclutar-seleccionar-y-fortalecer-equipos-con-habilidades-directas/
LOCATION:CANACO Juárez\, Henry Dunant 4505\, Ciudad Juárez\, Chihuahua\, 32340\, Mexico
END:VEVENT
BEGIN:VEVENT
DTSTART;TZID=UTC:20251125T090000
DTEND;TZID=UTC:20251125T130000
DTSTAMP:20260424T001352
CREATED:20251118T160952Z
LAST-MODIFIED:20251118T164353Z
UID:7437-1764061200-1764075600@canacojuarez.com
SUMMARY:Obligaciones de capacitación: lo que todo empresario y gerente de RH debe saber
DESCRIPTION:
URL:https://canacojuarez.com/curso/obligaciones-de-capacitacion-lo-que-todo-empresario-y-gerente-de-rh-debe-saber/
LOCATION:CANACO Juárez\, Henry Dunant 4505\, Ciudad Juárez\, Chihuahua\, 32340\, Mexico
END:VEVENT
BEGIN:VEVENT
DTSTART;TZID=UTC:20251126T090000
DTEND;TZID=UTC:20251126T130000
DTSTAMP:20260424T001352
CREATED:20251118T163714Z
LAST-MODIFIED:20251118T164150Z
UID:7453-1764147600-1764162000@canacojuarez.com
SUMMARY:Estrategias para manejar personas difíciles
DESCRIPTION:
URL:https://canacojuarez.com/curso/estrategias-para-manejar-personas-dificiles/
LOCATION:CANACO Juárez\, Henry Dunant 4505\, Ciudad Juárez\, Chihuahua\, 32340\, Mexico
END:VEVENT
BEGIN:VEVENT
DTSTART;TZID=UTC:20251127T090000
DTEND;TZID=UTC:20251127T150000
DTSTAMP:20260424T001352
CREATED:20251118T163409Z
LAST-MODIFIED:20251118T163409Z
UID:7450-1764234000-1764255600@canacojuarez.com
SUMMARY:Conecta Network
DESCRIPTION:
URL:https://canacojuarez.com/curso/conecta-network/
LOCATION:CANACO Juárez\, Henry Dunant 4505\, Ciudad Juárez\, Chihuahua\, 32340\, Mexico
END:VEVENT
BEGIN:VEVENT
DTSTART;TZID=UTC:20251216T130000
DTEND;TZID=UTC:20251216T170000
DTSTAMP:20260424T001352
CREATED:20251212T165724Z
LAST-MODIFIED:20251212T165724Z
UID:7472-1765890000-1765904400@canacojuarez.com
SUMMARY:Primeros Auxilios
DESCRIPTION:
URL:https://canacojuarez.com/curso/primeros-auxilios-2/
LOCATION:CANACO Juárez\, Henry Dunant 4505\, Ciudad Juárez\, Chihuahua\, 32340\, Mexico
END:VEVENT
BEGIN:VEVENT
DTSTART;TZID=UTC:20260115T100000
DTEND;TZID=UTC:20260115T130000
DTSTAMP:20260424T001352
CREATED:20260105T201306Z
LAST-MODIFIED:20260105T201306Z
UID:7507-1768471200-1768482000@canacojuarez.com
SUMMARY:Motivar para liderar
DESCRIPTION:
URL:https://canacojuarez.com/curso/motivar-para-liderar/
LOCATION:CANACO Juárez\, Henry Dunant 4505\, Ciudad Juárez\, Chihuahua\, 32340\, Mexico
END:VEVENT
BEGIN:VEVENT
DTSTART;TZID=UTC:20260120T090000
DTEND;TZID=UTC:20260120T130000
DTSTAMP:20260424T001352
CREATED:20260105T201538Z
LAST-MODIFIED:20260105T201538Z
UID:7510-1768899600-1768914000@canacojuarez.com
SUMMARY:Resolución miscelánea 2026
DESCRIPTION:
URL:https://canacojuarez.com/curso/resolucion-miscelanea-2026/
LOCATION:CANACO Juárez\, Henry Dunant 4505\, Ciudad Juárez\, Chihuahua\, 32340\, Mexico
END:VEVENT
BEGIN:VEVENT
DTSTART;TZID=UTC:20260121T090000
DTEND;TZID=UTC:20260121T130000
DTSTAMP:20260424T001352
CREATED:20260105T201908Z
LAST-MODIFIED:20260105T201908Z
UID:7513-1768986000-1769000400@canacojuarez.com
SUMMARY:Customer experience - La experiencia del cliente
DESCRIPTION:
URL:https://canacojuarez.com/curso/customer-experience-la-experiencia-del-cliente/
LOCATION:CANACO Juárez\, Henry Dunant 4505\, Ciudad Juárez\, Chihuahua\, 32340\, Mexico
END:VEVENT
BEGIN:VEVENT
DTSTART;TZID=UTC:20260122T100000
DTEND;TZID=UTC:20260122T140000
DTSTAMP:20260424T001352
CREATED:20260105T202040Z
LAST-MODIFIED:20260105T202040Z
UID:7516-1769076000-1769090400@canacojuarez.com
SUMMARY:NOM-035 Factores de riesgo psicosocial
DESCRIPTION:
URL:https://canacojuarez.com/curso/nom-035-factores-de-riesgo-psicosocial/
LOCATION:CANACO Juárez\, Henry Dunant 4505\, Ciudad Juárez\, Chihuahua\, 32340\, Mexico
END:VEVENT
BEGIN:VEVENT
DTSTART;TZID=UTC:20260127T090000
DTEND;TZID=UTC:20260127T120000
DTSTAMP:20260424T001352
CREATED:20260201T192402Z
LAST-MODIFIED:20260201T192402Z
UID:7523-1769504400-1769515200@canacojuarez.com
SUMMARY:Emisión Correcta de CFDI
DESCRIPTION:
URL:https://canacojuarez.com/curso/emision-correcta-de-cfdi/
LOCATION:CANACO Juárez\, Henry Dunant 4505\, Ciudad Juárez\, Chihuahua\, 32340\, Mexico
END:VEVENT
BEGIN:VEVENT
DTSTART;TZID=UTC:20260205T100000
DTEND;TZID=UTC:20260205T110000
DTSTAMP:20260424T001352
CREATED:20260201T192110Z
LAST-MODIFIED:20260201T195906Z
UID:7520-1770285600-1770289200@canacojuarez.com
SUMMARY:Soluciones E-Commerce para tu negocio
DESCRIPTION:Regístrate aquí: https://humantek-nube.mx/canaco/RegCurso.aspx?id=2026020524
URL:https://canacojuarez.com/curso/soluciones-e-commerce-para-tu-negocio/
LOCATION:CANACO Juárez\, Henry Dunant 4505\, Ciudad Juárez\, Chihuahua\, 32340\, Mexico
END:VEVENT
BEGIN:VEVENT
DTSTART;TZID=UTC:20260217T120000
DTEND;TZID=UTC:20260217T140000
DTSTAMP:20260424T001352
CREATED:20260201T193036Z
LAST-MODIFIED:20260201T195636Z
UID:7526-1771329600-1771336800@canacojuarez.com
SUMMARY:Reglas Generales de Comercio Exterior 2026
DESCRIPTION:
URL:https://canacojuarez.com/curso/reglas-generales-de-comercio-exterior-2026/
LOCATION:CANACO Juárez\, Henry Dunant 4505\, Ciudad Juárez\, Chihuahua\, 32340\, Mexico
END:VEVENT
BEGIN:VEVENT
DTSTART;TZID=UTC:20260218T100000
DTEND;TZID=UTC:20260218T120000
DTSTAMP:20260424T001352
CREATED:20260201T193220Z
LAST-MODIFIED:20260201T194700Z
UID:7534-1771408800-1771416000@canacojuarez.com
SUMMARY:Retos y Estrategias para la Reforma de la Jornada Laboral
DESCRIPTION:
URL:https://canacojuarez.com/curso/7534/
LOCATION:CANACO Juárez\, Henry Dunant 4505\, Ciudad Juárez\, Chihuahua\, 32340\, Mexico
END:VEVENT
BEGIN:VEVENT
DTSTART;TZID=UTC:20260219T090000
DTEND;TZID=UTC:20260219T130000
DTSTAMP:20260424T001352
CREATED:20260201T193442Z
LAST-MODIFIED:20260201T194922Z
UID:7537-1771491600-1771506000@canacojuarez.com
SUMMARY:Claves REPSE
DESCRIPTION:
URL:https://canacojuarez.com/curso/claves-repse/
LOCATION:CANACO Juárez\, Henry Dunant 4505\, Ciudad Juárez\, Chihuahua\, 32340\, Mexico
END:VEVENT
BEGIN:VEVENT
DTSTART;TZID=UTC:20260219T180000
DTEND;TZID=UTC:20260219T200000
DTSTAMP:20260424T001352
CREATED:20260205T201947Z
LAST-MODIFIED:20260205T201947Z
UID:7545-1771524000-1771531200@canacojuarez.com
SUMMARY:Conecta Network
DESCRIPTION:
URL:https://canacojuarez.com/curso/conecta-network-2/
LOCATION:CANACO Juárez\, Henry Dunant 4505\, Ciudad Juárez\, Chihuahua\, 32340\, Mexico
END:VEVENT
BEGIN:VEVENT
DTSTART;TZID=UTC:20260220T130000
DTEND;TZID=UTC:20260220T170000
DTSTAMP:20260424T001352
CREATED:20260201T193647Z
LAST-MODIFIED:20260201T195158Z
UID:7539-1771592400-1771606800@canacojuarez.com
SUMMARY:Primeros Auxilios
DESCRIPTION:
URL:https://canacojuarez.com/curso/primeros-auxilios-3/
LOCATION:CANACO Juárez\, Henry Dunant 4505\, Ciudad Juárez\, Chihuahua\, 32340\, Mexico
END:VEVENT
BEGIN:VEVENT
DTSTART;TZID=UTC:20260224T090000
DTEND;TZID=UTC:20260224T123000
DTSTAMP:20260424T001352
CREATED:20260201T194106Z
LAST-MODIFIED:20260201T194106Z
UID:7541-1771923600-1771936200@canacojuarez.com
SUMMARY:Bases de la Salud Mental en el Trabajo
DESCRIPTION:
URL:https://canacojuarez.com/curso/bases-de-la-salud-mental-en-el-trabajo/
LOCATION:CANACO Juárez\, Henry Dunant 4505\, Ciudad Juárez\, Chihuahua\, 32340\, Mexico
END:VEVENT
BEGIN:VEVENT
DTSTART;TZID=UTC:20260225T090000
DTEND;TZID=UTC:20260225T120000
DTSTAMP:20260424T001352
CREATED:20260201T194254Z
LAST-MODIFIED:20260201T194254Z
UID:7543-1772010000-1772020800@canacojuarez.com
SUMMARY:Neuroliderazgo
DESCRIPTION:
URL:https://canacojuarez.com/curso/neuroliderazgo/
LOCATION:CANACO Juárez\, Henry Dunant 4505\, Ciudad Juárez\, Chihuahua\, 32340\, Mexico
END:VEVENT
BEGIN:VEVENT
DTSTART;TZID=UTC:20260409T090000
DTEND;TZID=UTC:20260409T130000
DTSTAMP:20260424T001352
CREATED:20260415T164712Z
LAST-MODIFIED:20260415T164712Z
UID:7566-1775725200-1775739600@canacojuarez.com
SUMMARY:Desarrollando equipos de ventas
DESCRIPTION:
URL:https://canacojuarez.com/curso/desarrollando-equipos-de-ventas/
LOCATION:CANACO Juárez\, Henry Dunant 4505\, Ciudad Juárez\, Chihuahua\, 32340\, Mexico
END:VEVENT
BEGIN:VEVENT
DTSTART;TZID=UTC:20260415T100000
DTEND;TZID=UTC:20260415T130000
DTSTAMP:20260424T001352
CREATED:20260415T164346Z
LAST-MODIFIED:20260415T164346Z
UID:7560-1776247200-1776258000@canacojuarez.com
SUMMARY:Del bienestar a la productividad
DESCRIPTION:
URL:https://canacojuarez.com/curso/del-bienestar-a-la-productividad/
LOCATION:CANACO Juárez\, Henry Dunant 4505\, Ciudad Juárez\, Chihuahua\, 32340\, Mexico
END:VEVENT
BEGIN:VEVENT
DTSTART;TZID=UTC:20260416T090000
DTEND;TZID=UTC:20260416T140000
DTSTAMP:20260424T001352
CREATED:20260415T164506Z
LAST-MODIFIED:20260415T164506Z
UID:7563-1776330000-1776348000@canacojuarez.com
SUMMARY:Publicidad creativa con herramientas digitales
DESCRIPTION:
URL:https://canacojuarez.com/curso/publicidad-creativa-con-herramientas-digitales/
LOCATION:CANACO Juárez\, Henry Dunant 4505\, Ciudad Juárez\, Chihuahua\, 32340\, Mexico
END:VEVENT
END:VCALENDAR