BEGIN:VCALENDAR
VERSION:2.0
PRODID:-//CANACO Servitur Juárez - ECPv6.15.20//NONSGML v1.0//EN
CALSCALE:GREGORIAN
METHOD:PUBLISH
X-ORIGINAL-URL:https://canacojuarez.com
X-WR-CALDESC:Eventos para CANACO Servitur Juárez
REFRESH-INTERVAL;VALUE=DURATION:PT1H
X-Robots-Tag:noindex
X-PUBLISHED-TTL:PT1H
BEGIN:VTIMEZONE
TZID:UTC
BEGIN:STANDARD
TZOFFSETFROM:+0000
TZOFFSETTO:+0000
TZNAME:UTC
DTSTART:20230101T000000
END:STANDARD
END:VTIMEZONE
BEGIN:VEVENT
DTSTART;TZID=UTC:20240819T090000
DTEND;TZID=UTC:20240819T130000
DTSTAMP:20260424T075418
CREATED:20240815T161257Z
LAST-MODIFIED:20240815T161257Z
UID:6605-1724058000-1724072400@canacojuarez.com
SUMMARY:Personalización de tu negocio
DESCRIPTION:
URL:https://canacojuarez.com/curso/personalizacion-de-tu-negocio/
LOCATION:CANACO Juárez\, Henry Dunant 4505\, Ciudad Juárez\, Chihuahua\, 32340\, Mexico
END:VEVENT
BEGIN:VEVENT
DTSTART;TZID=UTC:20240808T110000
DTEND;TZID=UTC:20240808T150000
DTSTAMP:20260424T075418
CREATED:20240806T185737Z
LAST-MODIFIED:20240807T170029Z
UID:6542-1723114800-1723129200@canacojuarez.com
SUMMARY:La gestión de riesgos como herramienta para tu certificación internacional
DESCRIPTION:
URL:https://canacojuarez.com/curso/la-gestion-de-riesgos-como-herramienta-para-tu-certificacion-internacional/
LOCATION:CANACO Juárez\, Henry Dunant 4505\, Ciudad Juárez\, Chihuahua\, 32340\, Mexico
END:VEVENT
BEGIN:VEVENT
DTSTART;TZID=UTC:20240807T150000
DTEND;TZID=UTC:20240807T170000
DTSTAMP:20260424T075418
CREATED:20240806T185556Z
LAST-MODIFIED:20240806T185556Z
UID:6539-1723042800-1723050000@canacojuarez.com
SUMMARY:Aumenta tus ventas\, cuida tu bienestar
DESCRIPTION:
URL:https://canacojuarez.com/curso/aumenta-tus-ventas-cuida-tu-bienestar/
LOCATION:CANACO Juárez\, Henry Dunant 4505\, Ciudad Juárez\, Chihuahua\, 32340\, Mexico
END:VEVENT
BEGIN:VEVENT
DTSTART;TZID=UTC:20240725T100000
DTEND;TZID=UTC:20240725T120000
DTSTAMP:20260424T075418
CREATED:20240723T015012Z
LAST-MODIFIED:20240723T015012Z
UID:6466-1721901600-1721908800@canacojuarez.com
SUMMARY:Herramientas para identificar y superar el síndrome del Burnout
DESCRIPTION:
URL:https://canacojuarez.com/curso/herramientas-para-identificar-y-superar-el-sindrome-del-burnout/
LOCATION:CANACO Juárez\, Henry Dunant 4505\, Ciudad Juárez\, Chihuahua\, 32340\, Mexico
END:VEVENT
BEGIN:VEVENT
DTSTART;TZID=UTC:20240712T100000
DTEND;TZID=UTC:20240712T120000
DTSTAMP:20260424T075418
CREATED:20240709T224607Z
LAST-MODIFIED:20240709T224607Z
UID:6411-1720778400-1720785600@canacojuarez.com
SUMMARY:Enfrentando la ansiedad laboral: Un enfoque práctico
DESCRIPTION:
URL:https://canacojuarez.com/curso/enfrentando-la-ansiedad-laboral-un-enfoque-practico/
LOCATION:CANACO Juárez\, Henry Dunant 4505\, Ciudad Juárez\, Chihuahua\, 32340\, Mexico
END:VEVENT
BEGIN:VEVENT
DTSTART;TZID=UTC:20240711T100000
DTEND;TZID=UTC:20240711T110000
DTSTAMP:20260424T075418
CREATED:20240709T224351Z
LAST-MODIFIED:20240709T224351Z
UID:6408-1720692000-1720695600@canacojuarez.com
SUMMARY:Acoso y hostigamiento sexual y laboral
DESCRIPTION:
URL:https://canacojuarez.com/curso/acoso-y-hostigamiento-sexual-y-laboral-2/
LOCATION:CANACO Juárez\, Henry Dunant 4505\, Ciudad Juárez\, Chihuahua\, 32340\, Mexico
END:VEVENT
BEGIN:VEVENT
DTSTART;TZID=UTC:20240625T090000
DTEND;TZID=UTC:20240625T130000
DTSTAMP:20260424T075418
CREATED:20240606T023518Z
LAST-MODIFIED:20240621T030121Z
UID:6357-1719306000-1719320400@canacojuarez.com
SUMMARY:Formación en habilidades gerenciales
DESCRIPTION:
URL:https://canacojuarez.com/curso/formacion-en-habilidades-gerenciales/
LOCATION:CANACO Juárez\, Henry Dunant 4505\, Ciudad Juárez\, Chihuahua\, 32340\, Mexico
END:VEVENT
BEGIN:VEVENT
DTSTART;TZID=UTC:20240620T090000
DTEND;TZID=UTC:20240620T110000
DTSTAMP:20260424T075418
CREATED:20240606T023337Z
LAST-MODIFIED:20240617T184551Z
UID:6355-1718874000-1718881200@canacojuarez.com
SUMMARY:Comprendiendo y negociando contratos laborales
DESCRIPTION:
URL:https://canacojuarez.com/curso/comprendiendo-y-negociando-contratos-laborales/
LOCATION:CANACO Juárez\, Henry Dunant 4505\, Ciudad Juárez\, Chihuahua\, 32340\, Mexico
END:VEVENT
BEGIN:VEVENT
DTSTART;TZID=UTC:20240619T100000
DTEND;TZID=UTC:20240619T130000
DTSTAMP:20260424T075418
CREATED:20240606T023212Z
LAST-MODIFIED:20240614T000211Z
UID:6353-1718791200-1718802000@canacojuarez.com
SUMMARY:Servicio al cliente
DESCRIPTION:
URL:https://canacojuarez.com/curso/servicio-al-cliente/
LOCATION:CANACO Juárez\, Henry Dunant 4505\, Ciudad Juárez\, Chihuahua\, 32340\, Mexico
END:VEVENT
BEGIN:VEVENT
DTSTART;TZID=UTC:20240618T100000
DTEND;TZID=UTC:20240618T120000
DTSTAMP:20260424T075418
CREATED:20240606T023035Z
LAST-MODIFIED:20240614T000035Z
UID:6351-1718704800-1718712000@canacojuarez.com
SUMMARY:Como impulsar tu empresa en el mercado americano
DESCRIPTION:
URL:https://canacojuarez.com/curso/como-impulsar-tu-empresa-en-el-mercado-americano/
LOCATION:CANACO Juárez\, Henry Dunant 4505\, Ciudad Juárez\, Chihuahua\, 32340\, Mexico
END:VEVENT
BEGIN:VEVENT
DTSTART;TZID=UTC:20240617T090000
DTEND;TZID=UTC:20240617T130000
DTSTAMP:20260424T075418
CREATED:20240606T022917Z
LAST-MODIFIED:20240613T235818Z
UID:6349-1718614800-1718629200@canacojuarez.com
SUMMARY:Haz tu negocio mas rentable
DESCRIPTION: 
URL:https://canacojuarez.com/curso/haz-tu-negocio-mas-rentable/
LOCATION:CANACO Juárez\, Henry Dunant 4505\, Ciudad Juárez\, Chihuahua\, 32340\, Mexico
END:VEVENT
BEGIN:VEVENT
DTSTART;TZID=UTC:20240612T090000
DTEND;TZID=UTC:20240612T120000
DTSTAMP:20260424T075418
CREATED:20240606T022100Z
LAST-MODIFIED:20240606T022620Z
UID:6343-1718182800-1718193600@canacojuarez.com
SUMMARY:Rentabiliza tu tienda aplicando estrategias de merchandising
DESCRIPTION:
URL:https://canacojuarez.com/curso/reentabiliza-tu-tienda-aplicando-estrategias-de-merchandising/
LOCATION:Webinar\, Mexico
END:VEVENT
BEGIN:VEVENT
DTSTART;TZID=UTC:20240610T100000
DTEND;TZID=UTC:20240610T120000
DTSTAMP:20260424T075418
CREATED:20240606T021136Z
LAST-MODIFIED:20240606T021136Z
UID:6340-1718013600-1718020800@canacojuarez.com
SUMMARY:Acoso y hostigamiento sexual y laboral
DESCRIPTION:
URL:https://canacojuarez.com/curso/acoso-y-hostigamiento-sexual-y-laboral/
LOCATION:CANACO Juárez\, Henry Dunant 4505\, Ciudad Juárez\, Chihuahua\, 32340\, Mexico
END:VEVENT
BEGIN:VEVENT
DTSTART;TZID=UTC:20240530T110000
DTEND;TZID=UTC:20240530T120000
DTSTAMP:20260424T075418
CREATED:20240503T165208Z
LAST-MODIFIED:20240503T165208Z
UID:6296-1717066800-1717070400@canacojuarez.com
SUMMARY:El arte de comunicar\, coordinar y concentrar.
DESCRIPTION:Clave en el desarrollo de las PYMEs
URL:https://canacojuarez.com/curso/el-arte-de-comunicar-coordinar-y-concentrar/
LOCATION:CANACO Juárez\, Henry Dunant 4505\, Ciudad Juárez\, Chihuahua\, 32340\, Mexico
END:VEVENT
BEGIN:VEVENT
DTSTART;TZID=UTC:20240523T110000
DTEND;TZID=UTC:20240523T120000
DTSTAMP:20260424T075418
CREATED:20240503T164202Z
LAST-MODIFIED:20240503T164202Z
UID:6292-1716462000-1716465600@canacojuarez.com
SUMMARY:Sé tu propio consultor en tu empresa
DESCRIPTION:
URL:https://canacojuarez.com/curso/se-tu-propio-consultor-en-tu-empresa/
LOCATION:CANACO Juárez\, Henry Dunant 4505\, Ciudad Juárez\, Chihuahua\, 32340\, Mexico
END:VEVENT
BEGIN:VEVENT
DTSTART;TZID=UTC:20240517T100000
DTEND;TZID=UTC:20240517T110000
DTSTAMP:20260424T075418
CREATED:20240503T164011Z
LAST-MODIFIED:20240503T164011Z
UID:6289-1715940000-1715943600@canacojuarez.com
SUMMARY:Norma 035
DESCRIPTION:
URL:https://canacojuarez.com/curso/norma-035/
LOCATION:CANACO Juárez\, Henry Dunant 4505\, Ciudad Juárez\, Chihuahua\, 32340\, Mexico
END:VEVENT
BEGIN:VEVENT
DTSTART;TZID=UTC:20240517T100000
DTEND;TZID=UTC:20240517T110000
DTSTAMP:20260424T075418
CREATED:20240503T163549Z
LAST-MODIFIED:20240503T163549Z
UID:6286-1715940000-1715943600@canacojuarez.com
SUMMARY:Cómo llevar tu empresa a USA y Canadá
DESCRIPTION:
URL:https://canacojuarez.com/curso/como-llevar-tu-empresa-a-usa-y-canada/
LOCATION:CANACO Juárez\, Henry Dunant 4505\, Ciudad Juárez\, Chihuahua\, 32340\, Mexico
END:VEVENT
BEGIN:VEVENT
DTSTART;TZID=UTC:20240515T110000
DTEND;TZID=UTC:20240515T120000
DTSTAMP:20260424T075418
CREATED:20240503T161429Z
LAST-MODIFIED:20240503T161429Z
UID:6284-1715770800-1715774400@canacojuarez.com
SUMMARY:La gestión de riesgos como herramienta para tu certificación internacional (2)
DESCRIPTION:
URL:https://canacojuarez.com/curso/la-gestion-de-riesgos-como-herramienta-para-tu-certificacion-internacional-2/
LOCATION:CANACO Juárez\, Henry Dunant 4505\, Ciudad Juárez\, Chihuahua\, 32340\, Mexico
END:VEVENT
BEGIN:VEVENT
DTSTART;TZID=UTC:20240515T090000
DTEND;TZID=UTC:20240515T100000
DTSTAMP:20260424T075418
CREATED:20240502T193633Z
LAST-MODIFIED:20240502T193633Z
UID:6276-1715763600-1715767200@canacojuarez.com
SUMMARY:Problemas de comunicación en tu clínica
DESCRIPTION:
URL:https://canacojuarez.com/curso/problemas-de-comunicacion-en-tu-clinica/
LOCATION:CANACO Juárez\, Henry Dunant 4505\, Ciudad Juárez\, Chihuahua\, 32340\, Mexico
END:VEVENT
BEGIN:VEVENT
DTSTART;TZID=UTC:20240514T120000
DTEND;TZID=UTC:20240514T130000
DTSTAMP:20260424T075418
CREATED:20240503T161127Z
LAST-MODIFIED:20240503T161127Z
UID:6281-1715688000-1715691600@canacojuarez.com
SUMMARY:La gestión de riesgos como herramienta para tu certificación internacional (1)
DESCRIPTION:
URL:https://canacojuarez.com/curso/la-gestion-de-riesgos-como-herramienta-para-tu-certificacion-internacional-1/
LOCATION:CANACO Juárez\, Henry Dunant 4505\, Ciudad Juárez\, Chihuahua\, 32340\, Mexico
END:VEVENT
BEGIN:VEVENT
DTSTART;TZID=UTC:20240508T110000
DTEND;TZID=UTC:20240508T120000
DTSTAMP:20260424T075418
CREATED:20240502T193353Z
LAST-MODIFIED:20240503T180507Z
UID:6273-1715166000-1715169600@canacojuarez.com
SUMMARY:Prestaciones laborales
DESCRIPTION:
URL:https://canacojuarez.com/curso/prestaciones-laborales/
LOCATION:CANACO Juárez\, Henry Dunant 4505\, Ciudad Juárez\, Chihuahua\, 32340\, Mexico
END:VEVENT
BEGIN:VEVENT
DTSTART;TZID=UTC:20240503T090000
DTEND;TZID=UTC:20240503T120000
DTSTAMP:20260424T075418
CREATED:20240502T193143Z
LAST-MODIFIED:20240502T193143Z
UID:6271-1714726800-1714737600@canacojuarez.com
SUMMARY:Ventas que superan la expectativa
DESCRIPTION:
URL:https://canacojuarez.com/curso/ventas-que-superan-la-expectativa/
LOCATION:CANACO Juárez\, Henry Dunant 4505\, Ciudad Juárez\, Chihuahua\, 32340\, Mexico
END:VEVENT
BEGIN:VEVENT
DTSTART;TZID=UTC:20240426T100000
DTEND;TZID=UTC:20240426T230000
DTSTAMP:20260424T075418
CREATED:20240403T171028Z
LAST-MODIFIED:20240403T171028Z
UID:6243-1714125600-1714172400@canacojuarez.com
SUMMARY:Cómo maximizar mi pensión IMSS Ley 73
DESCRIPTION:
URL:https://canacojuarez.com/curso/como-maximizar-mi-pension-imss-ley-73-2/
LOCATION:CANACO Juárez\, Henry Dunant 4505\, Ciudad Juárez\, Chihuahua\, 32340\, Mexico
END:VEVENT
BEGIN:VEVENT
DTSTART;TZID=UTC:20240425T100000
DTEND;TZID=UTC:20240425T110000
DTSTAMP:20260424T075418
CREATED:20240403T170857Z
LAST-MODIFIED:20240403T170857Z
UID:6240-1714039200-1714042800@canacojuarez.com
SUMMARY:Curso de norma 035
DESCRIPTION:
URL:https://canacojuarez.com/curso/curso-de-norma-035/
LOCATION:CANACO Juárez\, Henry Dunant 4505\, Ciudad Juárez\, Chihuahua\, 32340\, Mexico
END:VEVENT
BEGIN:VEVENT
DTSTART;TZID=UTC:20240412T090000
DTEND;TZID=UTC:20240412T140000
DTSTAMP:20260424T075418
CREATED:20240403T170644Z
LAST-MODIFIED:20240403T170644Z
UID:6237-1712912400-1712930400@canacojuarez.com
SUMMARY:Inteligencia emocional para líderes
DESCRIPTION:
URL:https://canacojuarez.com/curso/inteligencia-emocional-para-lideres/
LOCATION:CANACO Juárez\, Henry Dunant 4505\, Ciudad Juárez\, Chihuahua\, 32340\, Mexico
END:VEVENT
BEGIN:VEVENT
DTSTART;TZID=UTC:20240411T100000
DTEND;TZID=UTC:20240411T140000
DTSTAMP:20260424T075418
CREATED:20240403T170324Z
LAST-MODIFIED:20240403T170324Z
UID:6232-1712829600-1712844000@canacojuarez.com
SUMMARY:Taller integral mujeres en el mundo empresarial
DESCRIPTION:
URL:https://canacojuarez.com/curso/taller-integral-mujeres-en-el-mundo-empresarial/
LOCATION:CANACO Juárez\, Henry Dunant 4505\, Ciudad Juárez\, Chihuahua\, 32340\, Mexico
END:VEVENT
BEGIN:VEVENT
DTSTART;TZID=UTC:20240322T100000
DTEND;TZID=UTC:20240322T110000
DTSTAMP:20260424T075418
CREATED:20240306T003838Z
LAST-MODIFIED:20240306T003838Z
UID:6224-1711101600-1711105200@canacojuarez.com
SUMMARY:Violencia laboral
DESCRIPTION:
URL:https://canacojuarez.com/curso/violencia-laboral/
LOCATION:CANACO Juárez\, Henry Dunant 4505\, Ciudad Juárez\, Chihuahua\, 32340\, Mexico
END:VEVENT
BEGIN:VEVENT
DTSTART;TZID=UTC:20240319T120000
DTEND;TZID=UTC:20240319T130000
DTSTAMP:20260424T075418
CREATED:20240306T003703Z
LAST-MODIFIED:20240306T003703Z
UID:6222-1710849600-1710853200@canacojuarez.com
SUMMARY:Habilidades de liderazgo
DESCRIPTION:
URL:https://canacojuarez.com/curso/habilidades-de-liderazgo/
LOCATION:CANACO Juárez\, Henry Dunant 4505\, Ciudad Juárez\, Chihuahua\, 32340\, Mexico
END:VEVENT
BEGIN:VEVENT
DTSTART;TZID=UTC:20240308T090000
DTEND;TZID=UTC:20240308T110000
DTSTAMP:20260424T075418
CREATED:20240223T203037Z
LAST-MODIFIED:20240223T203037Z
UID:6212-1709888400-1709895600@canacojuarez.com
SUMMARY:Nueva presentación del IVA en la plataforma del SAT
DESCRIPTION:OBJETIVO GENERAL.\nDar a conocer al participante la nueva presentación del Impuesto al Valor Agregado (IVA) en la plataforma del SAT y las posibles multas por la presentación con errores. \nTEMARIO.\n• Actos y actividades del IVA\n• Tasa 0% y exentos ¿es lo mismo?\n• Requisitos para que el IVA sea acreditable\n• Multas por errores en la presentación\n• Papeles de trabajo\n• Formato de presentación
URL:https://canacojuarez.com/curso/nueva-presentacion-del-iva-en-la-plataforma-del-sat/
LOCATION:CANACO Juárez\, Henry Dunant 4505\, Ciudad Juárez\, Chihuahua\, 32340\, Mexico
END:VEVENT
BEGIN:VEVENT
DTSTART;TZID=UTC:20240220T100000
DTEND;TZID=UTC:20240220T120000
DTSTAMP:20260424T075418
CREATED:20240223T202238Z
LAST-MODIFIED:20240223T202238Z
UID:6206-1708423200-1708430400@canacojuarez.com
SUMMARY:Como maximizar mi pensión IMSS ley 73
DESCRIPTION:  \nOBJETIVO GENERAL.\nQue el participante conozca los grandes beneficios de Pensión que la Ley 73 del Seguro Social LSS le ofrece y como maximizarlos. Conocerá también las últimas reformas al sistema de pensiones vigente de Ley 97\, con lo cual estará en la posición de aprovechar en lo personal estos beneficios y/o asesorar a sus colaboradores para obtenerlos. \nDIRIGIDA A\nPersonas que estén en edad o tengan colaboradores entre 55 y 60 años\, contadores\, abogados\, gerentes de RRHH\, gerentes\, empresarios y en general profesionistas interesados en el tema.
URL:https://canacojuarez.com/curso/como-maximizar-mi-pension-imss-ley-73/
LOCATION:CANACO Juárez\, Henry Dunant 4505\, Ciudad Juárez\, Chihuahua\, 32340\, Mexico
END:VEVENT
END:VCALENDAR