BEGIN:VCALENDAR
VERSION:2.0
PRODID:-//CANACO Servitur Juárez - ECPv6.15.20//NONSGML v1.0//EN
CALSCALE:GREGORIAN
METHOD:PUBLISH
X-ORIGINAL-URL:https://canacojuarez.com
X-WR-CALDESC:Eventos para CANACO Servitur Juárez
REFRESH-INTERVAL;VALUE=DURATION:PT1H
X-Robots-Tag:noindex
X-PUBLISHED-TTL:PT1H
BEGIN:VTIMEZONE
TZID:UTC
BEGIN:STANDARD
TZOFFSETFROM:+0000
TZOFFSETTO:+0000
TZNAME:UTC
DTSTART:20220101T000000
END:STANDARD
END:VTIMEZONE
BEGIN:VEVENT
DTSTART;TZID=UTC:20231107T100000
DTEND;TZID=UTC:20231107T110000
DTSTAMP:20260424T134003
CREATED:20231031T195936Z
LAST-MODIFIED:20231031T200053Z
UID:6095-1699351200-1699354800@canacojuarez.com
SUMMARY:Infonavit: Aclaraciones y recomendaciones para aumentar el patrimonio de los trabajadores
DESCRIPTION:
URL:https://canacojuarez.com/curso/infonavit-aclaraciones-y-recomendaciones-para-aumentar-el-patrimonio-de-los-trabajadores/
LOCATION:Chihuahua
END:VEVENT
BEGIN:VEVENT
DTSTART;TZID=UTC:20231027T110000
DTEND;TZID=UTC:20231027T120000
DTSTAMP:20260424T134003
CREATED:20231024T170341Z
LAST-MODIFIED:20231024T170455Z
UID:6092-1698404400-1698408000@canacojuarez.com
SUMMARY:Avances de la reforma laboral en Chihuahua
DESCRIPTION:
URL:https://canacojuarez.com/curso/avances-de-la-reforma-laboral-en-chihuahua/
LOCATION:CANACO Juárez\, Henry Dunant 4505\, Ciudad Juárez\, Chihuahua\, 32340\, Mexico
END:VEVENT
BEGIN:VEVENT
DTSTART;TZID=UTC:20231026T170000
DTEND;TZID=UTC:20231026T180000
DTSTAMP:20260424T134003
CREATED:20231004T001437Z
LAST-MODIFIED:20231024T170503Z
UID:6035-1698339600-1698343200@canacojuarez.com
SUMMARY:Inducción  para el expositor de servicios y productos
DESCRIPTION:
URL:https://canacojuarez.com/curso/induccion-para-el-expositor-de-servicios-y-productos/
LOCATION:CANACO Juárez\, Henry Dunant 4505\, Ciudad Juárez\, Chihuahua\, 32340\, Mexico
END:VEVENT
BEGIN:VEVENT
DTSTART;TZID=UTC:20231019T130000
DTEND;TZID=UTC:20231019T140000
DTSTAMP:20260424T134003
CREATED:20231004T001212Z
LAST-MODIFIED:20231024T170508Z
UID:6032-1697720400-1697724000@canacojuarez.com
SUMMARY:Comunicación Efectiva
DESCRIPTION:
URL:https://canacojuarez.com/curso/comunicacion-efectiva/
LOCATION:CANACO Juárez\, Henry Dunant 4505\, Ciudad Juárez\, Chihuahua\, 32340\, Mexico
END:VEVENT
BEGIN:VEVENT
DTSTART;TZID=UTC:20231017T120000
DTEND;TZID=UTC:20231017T130000
DTSTAMP:20260424T134003
CREATED:20231004T001014Z
LAST-MODIFIED:20231024T170514Z
UID:6026-1697544000-1697547600@canacojuarez.com
SUMMARY:Liderazgo Positivo
DESCRIPTION:
URL:https://canacojuarez.com/curso/liderazgo-positivo-2/
LOCATION:CANACO Juárez\, Henry Dunant 4505\, Ciudad Juárez\, Chihuahua\, 32340\, Mexico
END:VEVENT
BEGIN:VEVENT
DTSTART;TZID=UTC:20230920T113000
DTEND;TZID=UTC:20230920T130000
DTSTAMP:20260424T134003
CREATED:20230927T062029Z
LAST-MODIFIED:20230927T062029Z
UID:6018-1695209400-1695214800@canacojuarez.com
SUMMARY:Centro de conciliación laborales y locales
DESCRIPTION:
URL:https://canacojuarez.com/curso/centro-de-conciliacion-laborales-y-locales/
LOCATION:CANACO Juárez\, Henry Dunant 4505\, Ciudad Juárez\, Chihuahua\, 32340\, Mexico
END:VEVENT
BEGIN:VEVENT
DTSTART;TZID=UTC:20230914T120000
DTEND;TZID=UTC:20230914T140000
DTSTAMP:20260424T134003
CREATED:20230927T061752Z
LAST-MODIFIED:20230927T061752Z
UID:6014-1694692800-1694700000@canacojuarez.com
SUMMARY:Liderazgo positivo
DESCRIPTION:
URL:https://canacojuarez.com/curso/liderazgo-positivo/
LOCATION:CANACO Juárez\, Henry Dunant 4505\, Ciudad Juárez\, Chihuahua\, 32340\, Mexico
END:VEVENT
END:VCALENDAR