BEGIN:VCALENDAR
VERSION:2.0
PRODID:-//CANACO Servitur Juárez - ECPv6.15.20//NONSGML v1.0//EN
CALSCALE:GREGORIAN
METHOD:PUBLISH
X-WR-CALNAME:CANACO Servitur Juárez
X-ORIGINAL-URL:https://canacojuarez.com
X-WR-CALDESC:Eventos para CANACO Servitur Juárez
REFRESH-INTERVAL;VALUE=DURATION:PT1H
X-Robots-Tag:noindex
X-PUBLISHED-TTL:PT1H
BEGIN:VTIMEZONE
TZID:UTC
BEGIN:STANDARD
TZOFFSETFROM:+0000
TZOFFSETTO:+0000
TZNAME:UTC
DTSTART:20240101T000000
END:STANDARD
END:VTIMEZONE
BEGIN:VEVENT
DTSTART;TZID=UTC:20250826T090000
DTEND;TZID=UTC:20250826T120000
DTSTAMP:20260423T220831
CREATED:20250807T154230Z
LAST-MODIFIED:20250807T154230Z
UID:7316-1756198800-1756209600@canacojuarez.com
SUMMARY:Estrategias de Venta con Resultados
DESCRIPTION:
URL:https://canacojuarez.com/curso/estrategias-de-venta-con-resultados/
LOCATION:CANACO Juárez\, Henry Dunant 4505\, Ciudad Juárez\, Chihuahua\, 32340\, Mexico
END:VEVENT
BEGIN:VEVENT
DTSTART;TZID=UTC:20250821T090000
DTEND;TZID=UTC:20250821T120000
DTSTAMP:20260423T220831
CREATED:20250807T154119Z
LAST-MODIFIED:20250807T154119Z
UID:7313-1755766800-1755777600@canacojuarez.com
SUMMARY:Ley de Prevención de Lavado de Dinero.
DESCRIPTION:
URL:https://canacojuarez.com/curso/ley-de-prevencion-de-lavado-de-dinero/
LOCATION:CANACO Juárez\, Henry Dunant 4505\, Ciudad Juárez\, Chihuahua\, 32340\, Mexico
END:VEVENT
BEGIN:VEVENT
DTSTART;TZID=UTC:20250820T130000
DTEND;TZID=UTC:20250820T160000
DTSTAMP:20260423T220831
CREATED:20250807T153618Z
LAST-MODIFIED:20250807T153618Z
UID:7310-1755694800-1755705600@canacojuarez.com
SUMMARY:Competencias directivas para la gestión empresarial moderna
DESCRIPTION:
URL:https://canacojuarez.com/curso/competencias-directivas-para-la-gestion-empresarial-moderna/
LOCATION:CANACO Juárez\, Henry Dunant 4505\, Ciudad Juárez\, Chihuahua\, 32340\, Mexico
END:VEVENT
BEGIN:VEVENT
DTSTART;TZID=UTC:20250730T090000
DTEND;TZID=UTC:20250730T120000
DTSTAMP:20260423T220831
CREATED:20250707T162127Z
LAST-MODIFIED:20250707T162127Z
UID:7294-1753866000-1753876800@canacojuarez.com
SUMMARY:Prevención y manejo del secuestro
DESCRIPTION:
URL:https://canacojuarez.com/curso/prevencion-y-manejo-del-secuestro-2/
LOCATION:CANACO Juárez\, Henry Dunant 4505\, Ciudad Juárez\, Chihuahua\, 32340\, Mexico
END:VEVENT
BEGIN:VEVENT
DTSTART;TZID=UTC:20250729T090000
DTEND;TZID=UTC:20250729T120000
DTSTAMP:20260423T220831
CREATED:20250707T162012Z
LAST-MODIFIED:20250707T162012Z
UID:7291-1753779600-1753790400@canacojuarez.com
SUMMARY:Prevención y manejo del secuestro
DESCRIPTION:
URL:https://canacojuarez.com/curso/prevencion-y-manejo-del-secuestro/
LOCATION:CANACO Juárez\, Henry Dunant 4505\, Ciudad Juárez\, Chihuahua\, 32340\, Mexico
END:VEVENT
BEGIN:VEVENT
DTSTART;TZID=UTC:20250724T130000
DTEND;TZID=UTC:20250724T160000
DTSTAMP:20260423T220831
CREATED:20250707T130312Z
LAST-MODIFIED:20250707T130312Z
UID:7288-1753362000-1753372800@canacojuarez.com
SUMMARY:Lidera con inteligencia emocional
DESCRIPTION:
URL:https://canacojuarez.com/curso/lidera-con-inteligencia-emocional/
LOCATION:CANACO Juárez\, Henry Dunant 4505\, Ciudad Juárez\, Chihuahua\, 32340\, Mexico
END:VEVENT
BEGIN:VEVENT
DTSTART;TZID=UTC:20250722T130000
DTEND;TZID=UTC:20250722T160000
DTSTAMP:20260423T220831
CREATED:20250707T125917Z
LAST-MODIFIED:20250707T125917Z
UID:7285-1753189200-1753200000@canacojuarez.com
SUMMARY:Gestión de talento humano en la era digital
DESCRIPTION:
URL:https://canacojuarez.com/curso/gestion-de-talento-humano-en-la-era-digital/
LOCATION:CANACO Juárez\, Henry Dunant 4505\, Ciudad Juárez\, Chihuahua\, 32340\, Mexico
END:VEVENT
BEGIN:VEVENT
DTSTART;TZID=UTC:20250716T100000
DTEND;TZID=UTC:20250716T140000
DTSTAMP:20260423T220831
CREATED:20250707T125739Z
LAST-MODIFIED:20250707T125739Z
UID:7282-1752660000-1752674400@canacojuarez.com
SUMMARY:Violencia laboral en los centros de trabajo
DESCRIPTION:
URL:https://canacojuarez.com/curso/violencia-laboral-en-los-centros-de-trabajo/
LOCATION:CANACO Juárez\, Henry Dunant 4505\, Ciudad Juárez\, Chihuahua\, 32340\, Mexico
END:VEVENT
BEGIN:VEVENT
DTSTART;TZID=UTC:20250626T090000
DTEND;TZID=UTC:20250626T110000
DTSTAMP:20260423T220831
CREATED:20250603T152355Z
LAST-MODIFIED:20250603T152355Z
UID:7180-1750928400-1750935600@canacojuarez.com
SUMMARY:La tecnología como tu aliado de RH
DESCRIPTION:
URL:https://canacojuarez.com/curso/la-tecnologia-como-tu-aliado-de-rh/
LOCATION:CANACO Juárez\, Henry Dunant 4505\, Ciudad Juárez\, Chihuahua\, 32340\, Mexico
END:VEVENT
BEGIN:VEVENT
DTSTART;TZID=UTC:20250626T090000
DTEND;TZID=UTC:20250626T103000
DTSTAMP:20260423T220831
CREATED:20250621T172327Z
LAST-MODIFIED:20250621T172509Z
UID:7258-1750928400-1750933800@canacojuarez.com
SUMMARY:1er. Foro de Seguridad Pública
DESCRIPTION:📅 Del 23 al 26 de junio 2025\n📍 Edificio CEPIA\, CANACO Juárez \n👥 Participan:\nSecretaría de Seguridad Pública Municipal y Estatal\, Fiscalía Zona Norte y la Asociación de Empresas de Seguridad Privada. \n🔸 Inauguración:\n🗓️ 23 de junio\, 9:00 a.m.\n📍 Edificio CEPIA \n💬 Charlas sobre prevención\, tecnología y estrategias de seguridad para empresas.\n🕘 Cada ponencia con duración máxima de 60 min. \n#ForoDeSeguridadCANACO #CdJuárez #SeguridadEmpresarial #CANACOJuárez
URL:https://canacojuarez.com/curso/1er-foro-de-seguridad-publica-4/
LOCATION:CANACO Juárez\, Henry Dunant 4505\, Ciudad Juárez\, Chihuahua\, 32340\, Mexico
END:VEVENT
BEGIN:VEVENT
DTSTART;TZID=UTC:20250625T090000
DTEND;TZID=UTC:20250625T120000
DTSTAMP:20260423T220831
CREATED:20250603T152214Z
LAST-MODIFIED:20250603T152214Z
UID:7177-1750842000-1750852800@canacojuarez.com
SUMMARY:Marketing fácil y efectivo | Activa tus ventas en redes usando IA
DESCRIPTION:
URL:https://canacojuarez.com/curso/marketing-facil-y-efectivo-activa-tus-ventas-en-redes-usando-ia/
LOCATION:CANACO Juárez\, Henry Dunant 4505\, Ciudad Juárez\, Chihuahua\, 32340\, Mexico
END:VEVENT
BEGIN:VEVENT
DTSTART;TZID=UTC:20250625T090000
DTEND;TZID=UTC:20250625T103000
DTSTAMP:20260423T220831
CREATED:20250621T172106Z
LAST-MODIFIED:20250621T172106Z
UID:7256-1750842000-1750847400@canacojuarez.com
SUMMARY:1er. Foro de Seguridad Pública
DESCRIPTION:📅 Del 23 al 26 de junio 2025\n📍 Edificio CEPIA\, CANACO Juárez \n👥 Participan:\nSecretaría de Seguridad Pública Municipal y Estatal\, Fiscalía Zona Norte y la Asociación de Empresas de Seguridad Privada. \n🔸 Inauguración:\n🗓️ 23 de junio\, 9:00 a.m.\n📍 Edificio CEPIA \n💬 Charlas sobre prevención\, tecnología y estrategias de seguridad para empresas.\n🕘 Cada ponencia con duración máxima de 60 min. \n#ForoDeSeguridadCANACO #CdJuárez #SeguridadEmpresarial #CANACOJuárez
URL:https://canacojuarez.com/curso/1er-foro-de-seguridad-publica-3/
LOCATION:CANACO Juárez\, Henry Dunant 4505\, Ciudad Juárez\, Chihuahua\, 32340\, Mexico
END:VEVENT
BEGIN:VEVENT
DTSTART;TZID=UTC:20250624T100000
DTEND;TZID=UTC:20250624T130000
DTSTAMP:20260423T220831
CREATED:20250603T152002Z
LAST-MODIFIED:20250603T152002Z
UID:7174-1750759200-1750770000@canacojuarez.com
SUMMARY:Guía para vender o comprar exitosamente un negocio PYME
DESCRIPTION:
URL:https://canacojuarez.com/curso/guia-para-vender-o-comprar-exitosamente-un-negocio-pyme/
LOCATION:CANACO Juárez\, Henry Dunant 4505\, Ciudad Juárez\, Chihuahua\, 32340\, Mexico
END:VEVENT
BEGIN:VEVENT
DTSTART;TZID=UTC:20250624T090000
DTEND;TZID=UTC:20250624T103000
DTSTAMP:20260423T220831
CREATED:20250621T171814Z
LAST-MODIFIED:20250621T172802Z
UID:7254-1750755600-1750761000@canacojuarez.com
SUMMARY:1er. Foro de Seguridad Pública
DESCRIPTION:📅 Del 23 al 26 de junio 2025\n📍 Edificio CEPIA\, CANACO Juárez \n👥 Participan:\nSecretaría de Seguridad Pública Municipal y Estatal\, Fiscalía Zona Norte y la Asociación de Empresas de Seguridad Privada. \n🔸 Inauguración:\n🗓️ 23 de junio\, 9:00 a.m.\n📍 Edificio CEPIA \n💬 Charlas sobre prevención\, tecnología y estrategias de seguridad para empresas.\n🕘 Cada ponencia con duración máxima de 60 min. \n#ForoDeSeguridadCANACO #CdJuárez #SeguridadEmpresarial #CANACOJuárez
URL:https://canacojuarez.com/curso/1er-foro-de-seguridad-publica-2/
LOCATION:CANACO Juárez\, Henry Dunant 4505\, Ciudad Juárez\, Chihuahua\, 32340\, Mexico
END:VEVENT
BEGIN:VEVENT
DTSTART;TZID=UTC:20250623T090000
DTEND;TZID=UTC:20250623T103000
DTSTAMP:20260423T220831
CREATED:20250621T171512Z
LAST-MODIFIED:20250621T172640Z
UID:7249-1750669200-1750674600@canacojuarez.com
SUMMARY:1er. Foro de Seguridad Pública - Inaguración
DESCRIPTION:📅 Del 23 al 26 de junio 2025\n📍 Edificio CEPIA\, CANACO Juárez👥 Participan:\nSecretaría de Seguridad Pública Municipal y Estatal\, Fiscalía Zona Norte y la Asociación de Empresas de Seguridad Privada.🔸 Inauguración:\n🗓️ 23 de junio\, 9:00 a.m.\n📍 Edificio CEPIA \n💬 Charlas sobre prevención\, tecnología y estrategias de seguridad para empresas.\n🕘 Cada ponencia con duración máxima de 60 min. \n#ForoDeSeguridadCANACO #CdJuárez #SeguridadEmpresarial #CANACOJuárez\n\n\n­
URL:https://canacojuarez.com/curso/1er-foro-de-seguridad-publica/
LOCATION:Edificio CEPIA\, Manuel Díaz H. 520 Zona Pronaf Condominio La Plata\, Juárez\, Chihuahua\, 32315\, Mexico
END:VEVENT
BEGIN:VEVENT
DTSTART;TZID=UTC:20250619T090000
DTEND;TZID=UTC:20250619T120000
DTSTAMP:20260423T220831
CREATED:20250603T151557Z
LAST-MODIFIED:20250603T151557Z
UID:7171-1750323600-1750334400@canacojuarez.com
SUMMARY:Finanzas personales y cómo sanearlas
DESCRIPTION:
URL:https://canacojuarez.com/curso/finanzas-personales-y-como-sanearlas/
LOCATION:CANACO Juárez\, Henry Dunant 4505\, Ciudad Juárez\, Chihuahua\, 32340\, Mexico
END:VEVENT
BEGIN:VEVENT
DTSTART;TZID=UTC:20250618T100000
DTEND;TZID=UTC:20250618T130000
DTSTAMP:20260423T220831
CREATED:20250603T151422Z
LAST-MODIFIED:20250603T151422Z
UID:7168-1750240800-1750251600@canacojuarez.com
SUMMARY:Los 8 pasos para la toma de decisiones en la empresa
DESCRIPTION:
URL:https://canacojuarez.com/curso/los-8-pasos-para-la-toma-de-decisiones-en-la-empresa/
LOCATION:CANACO Juárez\, Henry Dunant 4505\, Ciudad Juárez\, Chihuahua\, 32340\, Mexico
END:VEVENT
BEGIN:VEVENT
DTSTART;TZID=UTC:20250617T090000
DTEND;TZID=UTC:20250617T120000
DTSTAMP:20260423T220831
CREATED:20250603T151136Z
LAST-MODIFIED:20250603T151136Z
UID:7165-1750150800-1750161600@canacojuarez.com
SUMMARY:Gestión del cambio y diseño de futuro
DESCRIPTION:
URL:https://canacojuarez.com/curso/gestion-del-cambio-y-diseno-de-futuro/
LOCATION:CANACO Juárez\, Henry Dunant 4505\, Ciudad Juárez\, Chihuahua\, 32340\, Mexico
END:VEVENT
BEGIN:VEVENT
DTSTART;TZID=UTC:20250529T170000
DTEND;TZID=UTC:20250529T190000
DTSTAMP:20260423T220831
CREATED:20250505T192140Z
LAST-MODIFIED:20250505T192747Z
UID:7074-1748538000-1748545200@canacojuarez.com
SUMMARY:Como hacer frente a un requerimiento del SAT para el estímulo del IVA al 8%
DESCRIPTION:
URL:https://canacojuarez.com/curso/como-hacer-frente-a-un-requerimiento-del-sat-para-el-estimulo-del-iva-al-8/
LOCATION:CANACO Juárez\, Henry Dunant 4505\, Ciudad Juárez\, Chihuahua\, 32340\, Mexico
END:VEVENT
BEGIN:VEVENT
DTSTART;TZID=UTC:20250528T090000
DTEND;TZID=UTC:20250528T110000
DTSTAMP:20260423T220831
CREATED:20250505T191920Z
LAST-MODIFIED:20250505T192258Z
UID:7070-1748422800-1748430000@canacojuarez.com
SUMMARY:Automatización del ciclo de ventas con inteligencia artificial
DESCRIPTION:
URL:https://canacojuarez.com/curso/automatizacion-del-ciclo-de-ventas-con-inteligencia-artificial/
LOCATION:CANACO Juárez\, Henry Dunant 4505\, Ciudad Juárez\, Chihuahua\, 32340\, Mexico
END:VEVENT
BEGIN:VEVENT
DTSTART;TZID=UTC:20250527T090000
DTEND;TZID=UTC:20250527T110000
DTSTAMP:20260423T220831
CREATED:20250505T191156Z
LAST-MODIFIED:20250505T192305Z
UID:7066-1748336400-1748343600@canacojuarez.com
SUMMARY:Resiliencia en tiempo de cambio
DESCRIPTION:
URL:https://canacojuarez.com/curso/resiliencia-en-tiempo-de-cambio/
LOCATION:CANACO Juárez\, Henry Dunant 4505\, Ciudad Juárez\, Chihuahua\, 32340\, Mexico
END:VEVENT
BEGIN:VEVENT
DTSTART;TZID=UTC:20250522T100000
DTEND;TZID=UTC:20250522T120000
DTSTAMP:20260423T220831
CREATED:20250505T190932Z
LAST-MODIFIED:20250505T192350Z
UID:7063-1747908000-1747915200@canacojuarez.com
SUMMARY:Determina tu PTU y asegura el cumplimiento fiscal
DESCRIPTION:
URL:https://canacojuarez.com/curso/determina-tu-ptu-y-asegura-el-cumplimiento-fiscal/
LOCATION:CANACO Juárez\, Henry Dunant 4505\, Ciudad Juárez\, Chihuahua\, 32340\, Mexico
END:VEVENT
BEGIN:VEVENT
DTSTART;TZID=UTC:20250520T090000
DTEND;TZID=UTC:20250520T120000
DTSTAMP:20260423T220831
CREATED:20250505T190801Z
LAST-MODIFIED:20250505T192411Z
UID:7060-1747731600-1747742400@canacojuarez.com
SUMMARY:Trabajo colaborativo
DESCRIPTION:
URL:https://canacojuarez.com/curso/trabajo-colaborativo/
LOCATION:CANACO Juárez\, Henry Dunant 4505\, Ciudad Juárez\, Chihuahua\, 32340\, Mexico
END:VEVENT
BEGIN:VEVENT
DTSTART;TZID=UTC:20250515T090000
DTEND;TZID=UTC:20250515T120000
DTSTAMP:20260423T220831
CREATED:20250505T185518Z
LAST-MODIFIED:20250505T192454Z
UID:7057-1747299600-1747310400@canacojuarez.com
SUMMARY:Modelo de negocios
DESCRIPTION:
URL:https://canacojuarez.com/curso/modelo-de-negocios/
LOCATION:CANACO Juárez\, Henry Dunant 4505\, Ciudad Juárez\, Chihuahua\, 32340\, Mexico
END:VEVENT
BEGIN:VEVENT
DTSTART;TZID=UTC:20250430T090000
DTEND;TZID=UTC:20250430T120000
DTSTAMP:20260423T220831
CREATED:20250421T223717Z
LAST-MODIFIED:20250421T223717Z
UID:7053-1746003600-1746014400@canacojuarez.com
SUMMARY:Resolución pacífica de conflictos
DESCRIPTION:
URL:https://canacojuarez.com/curso/resolucion-pacifica-de-conflictos-2/
LOCATION:CANACO Juárez\, Henry Dunant 4505\, Ciudad Juárez\, Chihuahua\, 32340\, Mexico
END:VEVENT
BEGIN:VEVENT
DTSTART;TZID=UTC:20250424T100000
DTEND;TZID=UTC:20250424T120000
DTSTAMP:20260423T220831
CREATED:20250328T180019Z
LAST-MODIFIED:20250421T223506Z
UID:7007-1745488800-1745496000@canacojuarez.com
SUMMARY:Las habilidades blandas de un líder
DESCRIPTION:
URL:https://canacojuarez.com/curso/las-habilidades-blandas-de-un-lider/
LOCATION:CANACO Juárez\, Henry Dunant 4505\, Ciudad Juárez\, Chihuahua\, 32340\, Mexico
END:VEVENT
BEGIN:VEVENT
DTSTART;TZID=UTC:20250423T090000
DTEND;TZID=UTC:20250423T120000
DTSTAMP:20260423T220831
CREATED:20250328T165851Z
LAST-MODIFIED:20250421T223349Z
UID:7004-1745398800-1745409600@canacojuarez.com
SUMMARY:Desarrollo e implementación de políticas internas.
DESCRIPTION:
URL:https://canacojuarez.com/curso/desarrollo-e-implementacion-de-politicas-internas/
LOCATION:CANACO Juárez\, Henry Dunant 4505\, Ciudad Juárez\, Chihuahua\, 32340\, Mexico
END:VEVENT
BEGIN:VEVENT
DTSTART;TZID=UTC:20250416T090000
DTEND;TZID=UTC:20250416T120000
DTSTAMP:20260423T220831
CREATED:20250328T164506Z
LAST-MODIFIED:20250328T175853Z
UID:7001-1744794000-1744804800@canacojuarez.com
SUMMARY:Resolución pacifica de conflíctos
DESCRIPTION:
URL:https://canacojuarez.com/curso/resolucion-pacifica-de-conflictos/
LOCATION:CANACO Juárez\, Henry Dunant 4505\, Ciudad Juárez\, Chihuahua\, 32340\, Mexico
END:VEVENT
BEGIN:VEVENT
DTSTART;TZID=UTC:20250415T090000
DTEND;TZID=UTC:20250415T120000
DTSTAMP:20260423T220831
CREATED:20250328T163715Z
LAST-MODIFIED:20250328T163715Z
UID:6998-1744707600-1744718400@canacojuarez.com
SUMMARY:Accountability: La importancia de asumir responsabilidades para el éxito organizacional
DESCRIPTION:
URL:https://canacojuarez.com/curso/accountability-la-importancia-de-asumir-responsabilidades-para-el-exito-organizacional/
LOCATION:CANACO Juárez\, Henry Dunant 4505\, Ciudad Juárez\, Chihuahua\, 32340\, Mexico
END:VEVENT
BEGIN:VEVENT
DTSTART;TZID=UTC:20250410T090000
DTEND;TZID=UTC:20250410T120000
DTSTAMP:20260423T220831
CREATED:20250328T162955Z
LAST-MODIFIED:20250402T175551Z
UID:6995-1744275600-1744286400@canacojuarez.com
SUMMARY:Ergonomía Empresarial. Clave para el bienestar y productividad de tu equipo.
DESCRIPTION:
URL:https://canacojuarez.com/curso/ergonomia-empresarial-clave-para-el-bienestar-y-productividad-de-tu-equipo/
LOCATION:CANACO Juárez\, Henry Dunant 4505\, Ciudad Juárez\, Chihuahua\, 32340\, Mexico
END:VEVENT
END:VCALENDAR