BEGIN:VCALENDAR
VERSION:2.0
PRODID:-//CANACO Servitur Juárez - ECPv6.15.20//NONSGML v1.0//EN
CALSCALE:GREGORIAN
METHOD:PUBLISH
X-ORIGINAL-URL:https://canacojuarez.com
X-WR-CALDESC:Eventos para CANACO Servitur Juárez
REFRESH-INTERVAL;VALUE=DURATION:PT1H
X-Robots-Tag:noindex
X-PUBLISHED-TTL:PT1H
BEGIN:VTIMEZONE
TZID:UTC
BEGIN:STANDARD
TZOFFSETFROM:+0000
TZOFFSETTO:+0000
TZNAME:UTC
DTSTART:20230101T000000
END:STANDARD
END:VTIMEZONE
BEGIN:VEVENT
DTSTART;TZID=UTC:20250430T090000
DTEND;TZID=UTC:20250430T120000
DTSTAMP:20260424T130615
CREATED:20250421T223717Z
LAST-MODIFIED:20250421T223717Z
UID:7053-1746003600-1746014400@canacojuarez.com
SUMMARY:Resolución pacífica de conflictos
DESCRIPTION:
URL:https://canacojuarez.com/curso/resolucion-pacifica-de-conflictos-2/
LOCATION:CANACO Juárez\, Henry Dunant 4505\, Ciudad Juárez\, Chihuahua\, 32340\, Mexico
END:VEVENT
BEGIN:VEVENT
DTSTART;TZID=UTC:20250424T100000
DTEND;TZID=UTC:20250424T120000
DTSTAMP:20260424T130615
CREATED:20250328T180019Z
LAST-MODIFIED:20250421T223506Z
UID:7007-1745488800-1745496000@canacojuarez.com
SUMMARY:Las habilidades blandas de un líder
DESCRIPTION:
URL:https://canacojuarez.com/curso/las-habilidades-blandas-de-un-lider/
LOCATION:CANACO Juárez\, Henry Dunant 4505\, Ciudad Juárez\, Chihuahua\, 32340\, Mexico
END:VEVENT
BEGIN:VEVENT
DTSTART;TZID=UTC:20250423T090000
DTEND;TZID=UTC:20250423T120000
DTSTAMP:20260424T130615
CREATED:20250328T165851Z
LAST-MODIFIED:20250421T223349Z
UID:7004-1745398800-1745409600@canacojuarez.com
SUMMARY:Desarrollo e implementación de políticas internas.
DESCRIPTION:
URL:https://canacojuarez.com/curso/desarrollo-e-implementacion-de-politicas-internas/
LOCATION:CANACO Juárez\, Henry Dunant 4505\, Ciudad Juárez\, Chihuahua\, 32340\, Mexico
END:VEVENT
BEGIN:VEVENT
DTSTART;TZID=UTC:20250416T090000
DTEND;TZID=UTC:20250416T120000
DTSTAMP:20260424T130615
CREATED:20250328T164506Z
LAST-MODIFIED:20250328T175853Z
UID:7001-1744794000-1744804800@canacojuarez.com
SUMMARY:Resolución pacifica de conflíctos
DESCRIPTION:
URL:https://canacojuarez.com/curso/resolucion-pacifica-de-conflictos/
LOCATION:CANACO Juárez\, Henry Dunant 4505\, Ciudad Juárez\, Chihuahua\, 32340\, Mexico
END:VEVENT
BEGIN:VEVENT
DTSTART;TZID=UTC:20250415T090000
DTEND;TZID=UTC:20250415T120000
DTSTAMP:20260424T130615
CREATED:20250328T163715Z
LAST-MODIFIED:20250328T163715Z
UID:6998-1744707600-1744718400@canacojuarez.com
SUMMARY:Accountability: La importancia de asumir responsabilidades para el éxito organizacional
DESCRIPTION:
URL:https://canacojuarez.com/curso/accountability-la-importancia-de-asumir-responsabilidades-para-el-exito-organizacional/
LOCATION:CANACO Juárez\, Henry Dunant 4505\, Ciudad Juárez\, Chihuahua\, 32340\, Mexico
END:VEVENT
BEGIN:VEVENT
DTSTART;TZID=UTC:20250410T090000
DTEND;TZID=UTC:20250410T120000
DTSTAMP:20260424T130615
CREATED:20250328T162955Z
LAST-MODIFIED:20250402T175551Z
UID:6995-1744275600-1744286400@canacojuarez.com
SUMMARY:Ergonomía Empresarial. Clave para el bienestar y productividad de tu equipo.
DESCRIPTION:
URL:https://canacojuarez.com/curso/ergonomia-empresarial-clave-para-el-bienestar-y-productividad-de-tu-equipo/
LOCATION:CANACO Juárez\, Henry Dunant 4505\, Ciudad Juárez\, Chihuahua\, 32340\, Mexico
END:VEVENT
BEGIN:VEVENT
DTSTART;TZID=UTC:20250409T090000
DTEND;TZID=UTC:20250409T120000
DTSTAMP:20260424T130615
CREATED:20250328T162336Z
LAST-MODIFIED:20250402T175307Z
UID:6992-1744189200-1744200000@canacojuarez.com
SUMMARY:Aumenta tu productividad con IA: Continuidad
DESCRIPTION:
URL:https://canacojuarez.com/curso/aumenta-tu-productividad-con-ia-continuidad/
LOCATION:CANACO Juárez\, Henry Dunant 4505\, Ciudad Juárez\, Chihuahua\, 32340\, Mexico
END:VEVENT
BEGIN:VEVENT
DTSTART;TZID=UTC:20250408T110000
DTEND;TZID=UTC:20250408T123000
DTSTAMP:20260424T130615
CREATED:20250328T162156Z
LAST-MODIFIED:20250402T175754Z
UID:6989-1744110000-1744115400@canacojuarez.com
SUMMARY:¿Cómo la tecnología puede ahorrar tiempo y aumentar tus ganancias?
DESCRIPTION:
URL:https://canacojuarez.com/curso/como-la-tecnologia-puede-ahorrar-tiempo-y-aumentar-tus-ganancias/
LOCATION:CANACO Juárez\, Henry Dunant 4505\, Ciudad Juárez\, Chihuahua\, 32340\, Mexico
END:VEVENT
BEGIN:VEVENT
DTSTART;TZID=UTC:20250320T140000
DTEND;TZID=UTC:20250320T170000
DTSTAMP:20260424T130615
CREATED:20250311T174609Z
LAST-MODIFIED:20250311T174609Z
UID:6986-1742479200-1742490000@canacojuarez.com
SUMMARY:Potencia tu productividad con IA
DESCRIPTION:
URL:https://canacojuarez.com/curso/potencia-tu-productividad-con-ia/
LOCATION:CANACO Juárez\, Henry Dunant 4505\, Ciudad Juárez\, Chihuahua\, 32340\, Mexico
END:VEVENT
BEGIN:VEVENT
DTSTART;TZID=UTC:20250319T090000
DTEND;TZID=UTC:20250319T120000
DTSTAMP:20260424T130615
CREATED:20250311T174350Z
LAST-MODIFIED:20250311T174350Z
UID:6984-1742374800-1742385600@canacojuarez.com
SUMMARY:Ventas que superan la expectativa
DESCRIPTION:
URL:https://canacojuarez.com/curso/ventas-que-superan-la-expectativa-2/
LOCATION:CANACO Juárez\, Henry Dunant 4505\, Ciudad Juárez\, Chihuahua\, 32340\, Mexico
END:VEVENT
BEGIN:VEVENT
DTSTART;TZID=UTC:20250318T090000
DTEND;TZID=UTC:20250318T120000
DTSTAMP:20260424T130615
CREATED:20250311T174152Z
LAST-MODIFIED:20250311T174152Z
UID:6982-1742288400-1742299200@canacojuarez.com
SUMMARY:Declaraciones anuales para personas morales
DESCRIPTION:
URL:https://canacojuarez.com/curso/declaraciones-anuales-para-personas-morales/
LOCATION:CANACO Juárez\, Henry Dunant 4505\, Ciudad Juárez\, Chihuahua\, 32340\, Mexico
END:VEVENT
BEGIN:VEVENT
DTSTART;TZID=UTC:20250313T100000
DTEND;TZID=UTC:20250313T120000
DTSTAMP:20260424T130615
CREATED:20250311T173540Z
LAST-MODIFIED:20250311T173540Z
UID:6980-1741860000-1741867200@canacojuarez.com
SUMMARY:Acoso y hostigamiento sexual
DESCRIPTION:
URL:https://canacojuarez.com/curso/acoso-y-hostigamiento-sexual/
LOCATION:CANACO Juárez\, Henry Dunant 4505\, Ciudad Juárez\, Chihuahua\, 32340\, Mexico
END:VEVENT
BEGIN:VEVENT
DTSTART;TZID=UTC:20250311T140000
DTEND;TZID=UTC:20250311T170000
DTSTAMP:20260424T130615
CREATED:20250311T152453Z
LAST-MODIFIED:20250311T152453Z
UID:6971-1741701600-1741712400@canacojuarez.com
SUMMARY:Mujeres y liderazgo: Del desafio a la acción
DESCRIPTION:
URL:https://canacojuarez.com/curso/mujeres-y-liderazgo-del-desafio-a-la-accion/
LOCATION:CANACO Juárez\, Henry Dunant 4505\, Ciudad Juárez\, Chihuahua\, 32340\, Mexico
END:VEVENT
BEGIN:VEVENT
DTSTART;TZID=UTC:20250306T090000
DTEND;TZID=UTC:20250306T120000
DTSTAMP:20260424T130615
CREATED:20250311T173252Z
LAST-MODIFIED:20250311T173252Z
UID:6978-1741251600-1741262400@canacojuarez.com
SUMMARY:Eleva tu marca
DESCRIPTION:
URL:https://canacojuarez.com/curso/eleva-tu-marca/
LOCATION:CANACO Juárez\, Henry Dunant 4505\, Ciudad Juárez\, Chihuahua\, 32340\, Mexico
END:VEVENT
BEGIN:VEVENT
DTSTART;TZID=UTC:20250227T090000
DTEND;TZID=UTC:20250227T120000
DTSTAMP:20260424T130615
CREATED:20250203T033353Z
LAST-MODIFIED:20250203T033353Z
UID:6961-1740646800-1740657600@canacojuarez.com
SUMMARY:Creación de valor con lujo: diseñando experiencias que trascienden lo ordinario
DESCRIPTION:
URL:https://canacojuarez.com/curso/creacion-de-valor-con-lujo-disenando-experiencias-que-trascienden-lo-ordinario/
LOCATION:CANACO Juárez\, Henry Dunant 4505\, Ciudad Juárez\, Chihuahua\, 32340\, Mexico
END:VEVENT
BEGIN:VEVENT
DTSTART;TZID=UTC:20250226T100000
DTEND;TZID=UTC:20250226T120000
DTSTAMP:20260424T130615
CREATED:20250203T033200Z
LAST-MODIFIED:20250203T033200Z
UID:6958-1740564000-1740571200@canacojuarez.com
SUMMARY:Oficina Virtual del SAT
DESCRIPTION:
URL:https://canacojuarez.com/curso/oficina-virtual-del-sat/
LOCATION:CANACO Juárez\, Henry Dunant 4505\, Ciudad Juárez\, Chihuahua\, 32340\, Mexico
END:VEVENT
BEGIN:VEVENT
DTSTART;TZID=UTC:20250220T090000
DTEND;TZID=UTC:20250220T120000
DTSTAMP:20260424T130615
CREATED:20250203T033006Z
LAST-MODIFIED:20250203T033006Z
UID:6955-1740042000-1740052800@canacojuarez.com
SUMMARY:Formación de equipos de alto rendimiento
DESCRIPTION:
URL:https://canacojuarez.com/curso/formacion-de-equipos-de-alto-rendimiento/
LOCATION:CANACO Juárez\, Henry Dunant 4505\, Ciudad Juárez\, Chihuahua\, 32340\, Mexico
END:VEVENT
BEGIN:VEVENT
DTSTART;TZID=UTC:20250219T100000
DTEND;TZID=UTC:20250219T120000
DTSTAMP:20260424T130615
CREATED:20250203T032628Z
LAST-MODIFIED:20250203T032852Z
UID:6952-1739959200-1739966400@canacojuarez.com
SUMMARY:Contabilidad para empresarios
DESCRIPTION:
URL:https://canacojuarez.com/curso/contabilidad-para-empresarios/
LOCATION:CANACO Juárez\, Henry Dunant 4505\, Ciudad Juárez\, Chihuahua\, 32340\, Mexico
END:VEVENT
BEGIN:VEVENT
DTSTART;TZID=UTC:20250218T090000
DTEND;TZID=UTC:20250218T120000
DTSTAMP:20260424T130615
CREATED:20250203T032423Z
LAST-MODIFIED:20250203T032515Z
UID:6949-1739869200-1739880000@canacojuarez.com
SUMMARY:Conquista con tu servicio
DESCRIPTION:
URL:https://canacojuarez.com/curso/conquista-con-tu-servicio/
LOCATION:CANACO Juárez\, Henry Dunant 4505\, Ciudad Juárez\, Chihuahua\, 32340\, Mexico
END:VEVENT
BEGIN:VEVENT
DTSTART;TZID=UTC:20250212T100000
DTEND;TZID=UTC:20250212T120000
DTSTAMP:20260424T130615
CREATED:20250203T031758Z
LAST-MODIFIED:20250203T031758Z
UID:6946-1739354400-1739361600@canacojuarez.com
SUMMARY:Manejo de accidentes de trabajo y llenado de formatos ST7 y ST9 IMSS
DESCRIPTION:
URL:https://canacojuarez.com/curso/manejo-de-accidentes-de-trabajo-y-llenado-de-formatos-st7-y-st9-imss/
LOCATION:CANACO Juárez\, Henry Dunant 4505\, Ciudad Juárez\, Chihuahua\, 32340\, Mexico
END:VEVENT
BEGIN:VEVENT
DTSTART;TZID=UTC:20250129T090000
DTEND;TZID=UTC:20250129T120000
DTSTAMP:20260424T130615
CREATED:20250102T224816Z
LAST-MODIFIED:20250102T224816Z
UID:6905-1738141200-1738152000@canacojuarez.com
SUMMARY:Declaraciones Anuales\, Obligaciones Fiscales y del Seguro Social
DESCRIPTION:
URL:https://canacojuarez.com/curso/declaraciones-anuales-obligaciones-fiscales-y-del-seguro-social/
LOCATION:CANACO Juárez\, Henry Dunant 4505\, Ciudad Juárez\, Chihuahua\, 32340\, Mexico
END:VEVENT
BEGIN:VEVENT
DTSTART;TZID=UTC:20250124T100000
DTEND;TZID=UTC:20250124T120000
DTSTAMP:20260424T130615
CREATED:20250117T021934Z
LAST-MODIFIED:20250117T021934Z
UID:6926-1737712800-1737720000@canacojuarez.com
SUMMARY:Determinación de la prima en el seguro de riesgos de trabajo ante el IMSS
DESCRIPTION:
URL:https://canacojuarez.com/curso/determinacion-de-la-prima-en-el-seguro-de-riesgos-de-trabajo-ante-el-imss/
LOCATION:CANACO Juárez\, Henry Dunant 4505\, Ciudad Juárez\, Chihuahua\, 32340\, Mexico
END:VEVENT
BEGIN:VEVENT
DTSTART;TZID=UTC:20250123T090000
DTEND;TZID=UTC:20250123T120000
DTSTAMP:20260424T130615
CREATED:20250102T224627Z
LAST-MODIFIED:20250117T021800Z
UID:6903-1737622800-1737633600@canacojuarez.com
SUMMARY:Liderazgo bajo presión
DESCRIPTION:
URL:https://canacojuarez.com/curso/liderazgo-bajo-presion/
LOCATION:CANACO Juárez\, Henry Dunant 4505\, Ciudad Juárez\, Chihuahua\, 32340\, Mexico
END:VEVENT
BEGIN:VEVENT
DTSTART;TZID=UTC:20250122T150000
DTEND;TZID=UTC:20250122T170000
DTSTAMP:20260424T130615
CREATED:20250102T224504Z
LAST-MODIFIED:20250117T021702Z
UID:6901-1737558000-1737565200@canacojuarez.com
SUMMARY:Contratos laborales
DESCRIPTION:
URL:https://canacojuarez.com/curso/contratos-laborales/
LOCATION:CANACO Juárez\, Henry Dunant 4505\, Ciudad Juárez\, Chihuahua\, 32340\, Mexico
END:VEVENT
BEGIN:VEVENT
DTSTART;TZID=UTC:20250121T090000
DTEND;TZID=UTC:20250121T120000
DTSTAMP:20260424T130615
CREATED:20250102T224344Z
LAST-MODIFIED:20250117T021541Z
UID:6894-1737450000-1737460800@canacojuarez.com
SUMMARY:Estrategias para lograr tus metas
DESCRIPTION:
URL:https://canacojuarez.com/curso/estrategias-para-lograr-tus-metas/
LOCATION:CANACO Juárez\, Henry Dunant 4505\, Ciudad Juárez\, Chihuahua\, 32340\, Mexico
END:VEVENT
BEGIN:VEVENT
DTSTART;TZID=UTC:20250116T090000
DTEND;TZID=UTC:20250116T120000
DTSTAMP:20260424T130615
CREATED:20250102T194901Z
LAST-MODIFIED:20250117T021427Z
UID:6891-1737018000-1737028800@canacojuarez.com
SUMMARY:Planeación estratégica
DESCRIPTION:
URL:https://canacojuarez.com/curso/planeacion-estrategica/
LOCATION:CANACO Juárez\, Henry Dunant 4505\, Ciudad Juárez\, Chihuahua\, 32340\, Mexico
END:VEVENT
BEGIN:VEVENT
DTSTART;TZID=UTC:20250115T150000
DTEND;TZID=UTC:20250115T170000
DTSTAMP:20260424T130615
CREATED:20250102T194706Z
LAST-MODIFIED:20250102T194706Z
UID:6888-1736953200-1736960400@canacojuarez.com
SUMMARY:Acuerdos Conclusivos
DESCRIPTION:
URL:https://canacojuarez.com/curso/acuerdos-conclusivos/
LOCATION:CANACO Juárez\, Henry Dunant 4505\, Ciudad Juárez\, Chihuahua\, 32340\, Mexico
END:VEVENT
BEGIN:VEVENT
DTSTART;TZID=UTC:20241128T090000
DTEND;TZID=UTC:20241128T130000
DTSTAMP:20260424T130615
CREATED:20241102T191548Z
LAST-MODIFIED:20241105T194219Z
UID:6826-1732784400-1732798800@canacojuarez.com
SUMMARY:Técnicas de conciliación laboral
DESCRIPTION:
URL:https://canacojuarez.com/curso/tecnicas-de-conciliacion-laboral-2/
LOCATION:CANACO Juárez\, Henry Dunant 4505\, Ciudad Juárez\, Chihuahua\, 32340\, Mexico
END:VEVENT
BEGIN:VEVENT
DTSTART;TZID=UTC:20241127T090000
DTEND;TZID=UTC:20241127T130000
DTSTAMP:20260424T130615
CREATED:20241102T191149Z
LAST-MODIFIED:20241105T194057Z
UID:6824-1732698000-1732712400@canacojuarez.com
SUMMARY:Técnicas de conciliación laboral
DESCRIPTION:
URL:https://canacojuarez.com/curso/tecnicas-de-conciliacion-laboral/
LOCATION:CANACO Juárez\, Henry Dunant 4505\, Ciudad Juárez\, Chihuahua\, 32340\, Mexico
END:VEVENT
BEGIN:VEVENT
DTSTART;TZID=UTC:20241126T100000
DTEND;TZID=UTC:20241126T140000
DTSTAMP:20260424T130615
CREATED:20241102T190949Z
LAST-MODIFIED:20241105T193951Z
UID:6822-1732615200-1732629600@canacojuarez.com
SUMMARY:Herramientas para una contratación efectiva
DESCRIPTION:
URL:https://canacojuarez.com/curso/herramientas-para-una-contratacion-efectiva/
LOCATION:CANACO Juárez\, Henry Dunant 4505\, Ciudad Juárez\, Chihuahua\, 32340\, Mexico
END:VEVENT
END:VCALENDAR