BEGIN:VCALENDAR
VERSION:2.0
PRODID:-//CANACO Servitur Juárez - ECPv6.15.20//NONSGML v1.0//EN
CALSCALE:GREGORIAN
METHOD:PUBLISH
X-WR-CALNAME:CANACO Servitur Juárez
X-ORIGINAL-URL:https://canacojuarez.com
X-WR-CALDESC:Eventos para CANACO Servitur Juárez
REFRESH-INTERVAL;VALUE=DURATION:PT1H
X-Robots-Tag:noindex
X-PUBLISHED-TTL:PT1H
BEGIN:VTIMEZONE
TZID:UTC
BEGIN:STANDARD
TZOFFSETFROM:+0000
TZOFFSETTO:+0000
TZNAME:UTC
DTSTART:20230101T000000
END:STANDARD
END:VTIMEZONE
BEGIN:VEVENT
DTSTART;TZID=UTC:20250121T090000
DTEND;TZID=UTC:20250121T120000
DTSTAMP:20260424T033711
CREATED:20250102T224344Z
LAST-MODIFIED:20250117T021541Z
UID:6894-1737450000-1737460800@canacojuarez.com
SUMMARY:Estrategias para lograr tus metas
DESCRIPTION:
URL:https://canacojuarez.com/curso/estrategias-para-lograr-tus-metas/
LOCATION:CANACO Juárez\, Henry Dunant 4505\, Ciudad Juárez\, Chihuahua\, 32340\, Mexico
END:VEVENT
BEGIN:VEVENT
DTSTART;TZID=UTC:20250116T090000
DTEND;TZID=UTC:20250116T120000
DTSTAMP:20260424T033711
CREATED:20250102T194901Z
LAST-MODIFIED:20250117T021427Z
UID:6891-1737018000-1737028800@canacojuarez.com
SUMMARY:Planeación estratégica
DESCRIPTION:
URL:https://canacojuarez.com/curso/planeacion-estrategica/
LOCATION:CANACO Juárez\, Henry Dunant 4505\, Ciudad Juárez\, Chihuahua\, 32340\, Mexico
END:VEVENT
BEGIN:VEVENT
DTSTART;TZID=UTC:20250115T150000
DTEND;TZID=UTC:20250115T170000
DTSTAMP:20260424T033711
CREATED:20250102T194706Z
LAST-MODIFIED:20250102T194706Z
UID:6888-1736953200-1736960400@canacojuarez.com
SUMMARY:Acuerdos Conclusivos
DESCRIPTION:
URL:https://canacojuarez.com/curso/acuerdos-conclusivos/
LOCATION:CANACO Juárez\, Henry Dunant 4505\, Ciudad Juárez\, Chihuahua\, 32340\, Mexico
END:VEVENT
BEGIN:VEVENT
DTSTART;TZID=UTC:20241128T090000
DTEND;TZID=UTC:20241128T130000
DTSTAMP:20260424T033711
CREATED:20241102T191548Z
LAST-MODIFIED:20241105T194219Z
UID:6826-1732784400-1732798800@canacojuarez.com
SUMMARY:Técnicas de conciliación laboral
DESCRIPTION:
URL:https://canacojuarez.com/curso/tecnicas-de-conciliacion-laboral-2/
LOCATION:CANACO Juárez\, Henry Dunant 4505\, Ciudad Juárez\, Chihuahua\, 32340\, Mexico
END:VEVENT
BEGIN:VEVENT
DTSTART;TZID=UTC:20241127T090000
DTEND;TZID=UTC:20241127T130000
DTSTAMP:20260424T033711
CREATED:20241102T191149Z
LAST-MODIFIED:20241105T194057Z
UID:6824-1732698000-1732712400@canacojuarez.com
SUMMARY:Técnicas de conciliación laboral
DESCRIPTION:
URL:https://canacojuarez.com/curso/tecnicas-de-conciliacion-laboral/
LOCATION:CANACO Juárez\, Henry Dunant 4505\, Ciudad Juárez\, Chihuahua\, 32340\, Mexico
END:VEVENT
BEGIN:VEVENT
DTSTART;TZID=UTC:20241126T100000
DTEND;TZID=UTC:20241126T140000
DTSTAMP:20260424T033711
CREATED:20241102T190949Z
LAST-MODIFIED:20241105T193951Z
UID:6822-1732615200-1732629600@canacojuarez.com
SUMMARY:Herramientas para una contratación efectiva
DESCRIPTION:
URL:https://canacojuarez.com/curso/herramientas-para-una-contratacion-efectiva/
LOCATION:CANACO Juárez\, Henry Dunant 4505\, Ciudad Juárez\, Chihuahua\, 32340\, Mexico
END:VEVENT
BEGIN:VEVENT
DTSTART;TZID=UTC:20241121T090000
DTEND;TZID=UTC:20241121T120000
DTSTAMP:20260424T033711
CREATED:20241102T190808Z
LAST-MODIFIED:20241105T193846Z
UID:6820-1732179600-1732190400@canacojuarez.com
SUMMARY:Devoluciones de impuestos o pagos indebidos
DESCRIPTION:
URL:https://canacojuarez.com/curso/devoluciones-de-impuestos-o-pagos-indebidos/
LOCATION:CANACO Juárez\, Henry Dunant 4505\, Ciudad Juárez\, Chihuahua\, 32340\, Mexico
END:VEVENT
BEGIN:VEVENT
DTSTART;TZID=UTC:20241113T150000
DTEND;TZID=UTC:20241113T170000
DTSTAMP:20260424T033711
CREATED:20241102T190511Z
LAST-MODIFIED:20241105T193737Z
UID:6814-1731510000-1731517200@canacojuarez.com
SUMMARY:Prevención y seguridad para la mujer
DESCRIPTION:Prevención y seguridad para la mujer.
URL:https://canacojuarez.com/curso/prevencion-y-seguridad-para-la-mujer/
LOCATION:CANACO Juárez\, Henry Dunant 4505\, Ciudad Juárez\, Chihuahua\, 32340\, Mexico
END:VEVENT
BEGIN:VEVENT
DTSTART;TZID=UTC:20241111T090000
DTEND;TZID=UTC:20241111T120000
DTSTAMP:20260424T033711
CREATED:20241102T190241Z
LAST-MODIFIED:20241105T193622Z
UID:6811-1731315600-1731326400@canacojuarez.com
SUMMARY:Entornos saludables\, empresas exitosas.
DESCRIPTION:
URL:https://canacojuarez.com/curso/entornos-saludables-empresas-exitosas/
LOCATION:CANACO Juárez\, Henry Dunant 4505\, Ciudad Juárez\, Chihuahua\, 32340\, Mexico
END:VEVENT
BEGIN:VEVENT
DTSTART;TZID=UTC:20241031T100000
DTEND;TZID=UTC:20241031T140000
DTSTAMP:20260424T033711
CREATED:20241002T175549Z
LAST-MODIFIED:20241002T175549Z
UID:6745-1730368800-1730383200@canacojuarez.com
SUMMARY:Toma de decisiones estratégicas para supervisores
DESCRIPTION:
URL:https://canacojuarez.com/curso/toma-de-decisiones-estrategicas-para-supervisores/
LOCATION:CANACO Juárez\, Henry Dunant 4505\, Ciudad Juárez\, Chihuahua\, 32340\, Mexico
END:VEVENT
BEGIN:VEVENT
DTSTART;TZID=UTC:20241029T090000
DTEND;TZID=UTC:20241029T120000
DTSTAMP:20260424T033711
CREATED:20241002T175349Z
LAST-MODIFIED:20241002T175349Z
UID:6743-1730192400-1730203200@canacojuarez.com
SUMMARY:Como evitar demandas laborales
DESCRIPTION:
URL:https://canacojuarez.com/curso/como-evitar-demandas-laborales/
LOCATION:CANACO Juárez\, Henry Dunant 4505\, Ciudad Juárez\, Chihuahua\, 32340\, Mexico
END:VEVENT
BEGIN:VEVENT
DTSTART;TZID=UTC:20241024T140000
DTEND;TZID=UTC:20241024T170000
DTSTAMP:20260424T033711
CREATED:20241002T175127Z
LAST-MODIFIED:20241002T175127Z
UID:6741-1729778400-1729789200@canacojuarez.com
SUMMARY:Técnicas de retroalimentación al personal
DESCRIPTION:
URL:https://canacojuarez.com/curso/tecnicas-de-retroalimentacion-al-personal/
LOCATION:CANACO Juárez\, Henry Dunant 4505\, Ciudad Juárez\, Chihuahua\, 32340\, Mexico
END:VEVENT
BEGIN:VEVENT
DTSTART;TZID=UTC:20241023T140000
DTEND;TZID=UTC:20241023T180000
DTSTAMP:20260424T033711
CREATED:20241002T174528Z
LAST-MODIFIED:20241002T174603Z
UID:6739-1729692000-1729706400@canacojuarez.com
SUMMARY:Cierre de ventas efectivas
DESCRIPTION:
URL:https://canacojuarez.com/curso/cierre-de-ventas-efectivas-2/
LOCATION:CANACO Juárez\, Henry Dunant 4505\, Ciudad Juárez\, Chihuahua\, 32340\, Mexico
END:VEVENT
BEGIN:VEVENT
DTSTART;TZID=UTC:20241022T140000
DTEND;TZID=UTC:20241022T180000
DTSTAMP:20260424T033711
CREATED:20241002T174419Z
LAST-MODIFIED:20241002T174419Z
UID:6737-1729605600-1729620000@canacojuarez.com
SUMMARY:Cierre de ventas efectivas
DESCRIPTION:
URL:https://canacojuarez.com/curso/cierre-de-ventas-efectivas/
LOCATION:CANACO Juárez\, Henry Dunant 4505\, Ciudad Juárez\, Chihuahua\, 32340\, Mexico
END:VEVENT
BEGIN:VEVENT
DTSTART;TZID=UTC:20241017T140000
DTEND;TZID=UTC:20241017T180000
DTSTAMP:20260424T033711
CREATED:20241002T174155Z
LAST-MODIFIED:20241002T174155Z
UID:6735-1729173600-1729188000@canacojuarez.com
SUMMARY:Atención a comensales
DESCRIPTION:
URL:https://canacojuarez.com/curso/atencion-a-comensales-2/
LOCATION:CANACO Juárez\, Henry Dunant 4505\, Ciudad Juárez\, Chihuahua\, 32340\, Mexico
END:VEVENT
BEGIN:VEVENT
DTSTART;TZID=UTC:20241016T140000
DTEND;TZID=UTC:20241016T180000
DTSTAMP:20260424T033711
CREATED:20241002T174047Z
LAST-MODIFIED:20241002T174047Z
UID:6733-1729087200-1729101600@canacojuarez.com
SUMMARY:Atención a comensales
DESCRIPTION:
URL:https://canacojuarez.com/curso/atencion-a-comensales/
LOCATION:CANACO Juárez\, Henry Dunant 4505\, Ciudad Juárez\, Chihuahua\, 32340\, Mexico
END:VEVENT
BEGIN:VEVENT
DTSTART;TZID=UTC:20241015T090000
DTEND;TZID=UTC:20241015T120000
DTSTAMP:20260424T033711
CREATED:20241002T173925Z
LAST-MODIFIED:20241008T162857Z
UID:6731-1728982800-1728993600@canacojuarez.com
SUMMARY:Taller habilidades de liderazgo orientado al trabajo colaborativo
DESCRIPTION:
URL:https://canacojuarez.com/curso/taller-habilidades-de-liderazgo-orientado-al-trabajo-colaborativo/
LOCATION:CANACO Juárez\, Henry Dunant 4505\, Ciudad Juárez\, Chihuahua\, 32340\, Mexico
END:VEVENT
BEGIN:VEVENT
DTSTART;TZID=UTC:20241009T090000
DTEND;TZID=UTC:20241009T120000
DTSTAMP:20260424T033711
CREATED:20241002T173732Z
LAST-MODIFIED:20241008T163122Z
UID:6729-1728464400-1728475200@canacojuarez.com
SUMMARY:Prevención y manejo del estrés laboral
DESCRIPTION:
URL:https://canacojuarez.com/curso/prevencion-y-manejo-del-estres-laboral/
LOCATION:CANACO Juárez\, Henry Dunant 4505\, Ciudad Juárez\, Chihuahua\, 32340\, Mexico
END:VEVENT
BEGIN:VEVENT
DTSTART;TZID=UTC:20240927T090000
DTEND;TZID=UTC:20240927T120000
DTSTAMP:20260424T033711
CREATED:20240904T013944Z
LAST-MODIFIED:20240904T013944Z
UID:6694-1727427600-1727438400@canacojuarez.com
SUMMARY:Transforma los conflictos: Mecanismos alternativos para soluciones exitosas
DESCRIPTION:
URL:https://canacojuarez.com/curso/transforma-los-conflictos-mecanismos-alternativos-para-soluciones-exitosas/
LOCATION:CANACO Juárez\, Henry Dunant 4505\, Ciudad Juárez\, Chihuahua\, 32340\, Mexico
END:VEVENT
BEGIN:VEVENT
DTSTART;TZID=UTC:20240925T140000
DTEND;TZID=UTC:20240925T180000
DTSTAMP:20260424T033711
CREATED:20240904T013220Z
LAST-MODIFIED:20240904T013220Z
UID:6692-1727272800-1727287200@canacojuarez.com
SUMMARY:Como vender a través de la inteligencia artificial
DESCRIPTION:
URL:https://canacojuarez.com/curso/como-vender-a-traves-de-la-inteligencia-artificial-2/
LOCATION:CANACO Juárez\, Henry Dunant 4505\, Ciudad Juárez\, Chihuahua\, 32340\, Mexico
END:VEVENT
BEGIN:VEVENT
DTSTART;TZID=UTC:20240924T140000
DTEND;TZID=UTC:20240924T180000
DTSTAMP:20260424T033711
CREATED:20240904T012520Z
LAST-MODIFIED:20240904T012520Z
UID:6690-1727186400-1727200800@canacojuarez.com
SUMMARY:Como vender a través de la inteligencia artificial
DESCRIPTION:
URL:https://canacojuarez.com/curso/como-vender-a-traves-de-la-inteligencia-artificial/
LOCATION:CANACO Juárez\, Henry Dunant 4505\, Ciudad Juárez\, Chihuahua\, 32340\, Mexico
END:VEVENT
BEGIN:VEVENT
DTSTART;TZID=UTC:20240924T100000
DTEND;TZID=UTC:20240924T130000
DTSTAMP:20260424T033711
CREATED:20240904T011554Z
LAST-MODIFIED:20240917T174111Z
UID:6688-1727172000-1727182800@canacojuarez.com
SUMMARY:Contabilidad para no contadores
DESCRIPTION:
URL:https://canacojuarez.com/curso/contabilidad-para-no-contadores/
LOCATION:CANACO Juárez\, Henry Dunant 4505\, Ciudad Juárez\, Chihuahua\, 32340\, Mexico
END:VEVENT
BEGIN:VEVENT
DTSTART;TZID=UTC:20240919T100000
DTEND;TZID=UTC:20240919T130000
DTSTAMP:20260424T033711
CREATED:20240904T011416Z
LAST-MODIFIED:20240917T174009Z
UID:6686-1726740000-1726750800@canacojuarez.com
SUMMARY:Haz tu negocio más rentable\, crea proyectos de alto impacto
DESCRIPTION:
URL:https://canacojuarez.com/curso/haz-tu-negocio-mas-rentable-crea-proyectos-de-alto-impacto/
LOCATION:CANACO Juárez\, Henry Dunant 4505\, Ciudad Juárez\, Chihuahua\, 32340\, Mexico
END:VEVENT
BEGIN:VEVENT
DTSTART;TZID=UTC:20240913T090000
DTEND;TZID=UTC:20240913T140000
DTSTAMP:20260424T033711
CREATED:20240904T005247Z
LAST-MODIFIED:20240904T005247Z
UID:6681-1726218000-1726236000@canacojuarez.com
SUMMARY:Excel para negocios nivel básico
DESCRIPTION:
URL:https://canacojuarez.com/curso/excel-para-negocios-nivel-basico-3/
LOCATION:CANACO Juárez\, Henry Dunant 4505\, Ciudad Juárez\, Chihuahua\, 32340\, Mexico
END:VEVENT
BEGIN:VEVENT
DTSTART;TZID=UTC:20240911T090000
DTEND;TZID=UTC:20240911T140000
DTSTAMP:20260424T033711
CREATED:20240904T004513Z
LAST-MODIFIED:20240904T004513Z
UID:6679-1726045200-1726063200@canacojuarez.com
SUMMARY:Excel para negocios nivel básico
DESCRIPTION:
URL:https://canacojuarez.com/curso/excel-para-negocios-nivel-basico-2/
LOCATION:CANACO Juárez\, Henry Dunant 4505\, Ciudad Juárez\, Chihuahua\, 32340\, Mexico
END:VEVENT
BEGIN:VEVENT
DTSTART;TZID=UTC:20240910T150000
DTEND;TZID=UTC:20240910T170000
DTSTAMP:20260424T033711
CREATED:20240904T010528Z
LAST-MODIFIED:20240904T010528Z
UID:6684-1725980400-1725987600@canacojuarez.com
SUMMARY:Comunicación Asertiva
DESCRIPTION:
URL:https://canacojuarez.com/curso/comunicacion-asertiva/
LOCATION:CANACO Juárez\, Henry Dunant 4505\, Ciudad Juárez\, Chihuahua\, 32340\, Mexico
END:VEVENT
BEGIN:VEVENT
DTSTART;TZID=UTC:20240909T090000
DTEND;TZID=UTC:20240909T140000
DTSTAMP:20260424T033711
CREATED:20240904T004405Z
LAST-MODIFIED:20240904T004405Z
UID:6677-1725872400-1725890400@canacojuarez.com
SUMMARY:Excel para negocios nivel básico
DESCRIPTION:
URL:https://canacojuarez.com/curso/excel-para-negocios-nivel-basico/
LOCATION:CANACO Juárez\, Henry Dunant 4505\, Ciudad Juárez\, Chihuahua\, 32340\, Mexico
END:VEVENT
BEGIN:VEVENT
DTSTART;TZID=UTC:20240906T110000
DTEND;TZID=UTC:20240906T130000
DTSTAMP:20260424T033711
CREATED:20240904T004234Z
LAST-MODIFIED:20240904T004234Z
UID:6675-1725620400-1725627600@canacojuarez.com
SUMMARY:Taller de resiliencia en tiempos difíciles
DESCRIPTION:
URL:https://canacojuarez.com/curso/taller-de-resiliencia-en-tiempos-dificiles/
LOCATION:CANACO Juárez\, Henry Dunant 4505\, Ciudad Juárez\, Chihuahua\, 32340\, Mexico
END:VEVENT
BEGIN:VEVENT
DTSTART;TZID=UTC:20240830T100000
DTEND;TZID=UTC:20240830T150000
DTSTAMP:20260424T033711
CREATED:20240807T172019Z
LAST-MODIFIED:20240807T172019Z
UID:6576-1725012000-1725030000@canacojuarez.com
SUMMARY:Organización y promoción para el turismo 5to día
DESCRIPTION:
URL:https://canacojuarez.com/curso/organizacion-y-promocion-para-el-turismo-5to-dia/
LOCATION:CANACO Juárez\, Henry Dunant 4505\, Ciudad Juárez\, Chihuahua\, 32340\, Mexico
END:VEVENT
BEGIN:VEVENT
DTSTART;TZID=UTC:20240829T100000
DTEND;TZID=UTC:20240829T150000
DTSTAMP:20260424T033711
CREATED:20240807T171913Z
LAST-MODIFIED:20240807T171913Z
UID:6574-1724925600-1724943600@canacojuarez.com
SUMMARY:Organización y promoción para el turismo 4to día
DESCRIPTION:
URL:https://canacojuarez.com/curso/organizacion-y-promocion-para-el-turismo-4to-dia/
LOCATION:CANACO Juárez\, Henry Dunant 4505\, Ciudad Juárez\, Chihuahua\, 32340\, Mexico
END:VEVENT
END:VCALENDAR