BEGIN:VCALENDAR
VERSION:2.0
PRODID:-//CANACO Servitur Juárez - ECPv6.15.20//NONSGML v1.0//EN
CALSCALE:GREGORIAN
METHOD:PUBLISH
X-ORIGINAL-URL:https://canacojuarez.com
X-WR-CALDESC:Eventos para CANACO Servitur Juárez
REFRESH-INTERVAL;VALUE=DURATION:PT1H
X-Robots-Tag:noindex
X-PUBLISHED-TTL:PT1H
BEGIN:VTIMEZONE
TZID:UTC
BEGIN:STANDARD
TZOFFSETFROM:+0000
TZOFFSETTO:+0000
TZNAME:UTC
DTSTART:20230101T000000
END:STANDARD
END:VTIMEZONE
BEGIN:VEVENT
DTSTART;TZID=UTC:20240209T090000
DTEND;TZID=UTC:20240209T113000
DTSTAMP:20260425T040523
CREATED:20240214T234139Z
LAST-MODIFIED:20240214T234139Z
UID:6197-1707469200-1707478200@canacojuarez.com
SUMMARY:Declaración anual de personas morales
DESCRIPTION:
URL:https://canacojuarez.com/curso/declaracion-anual-de-personas-morales/
LOCATION:CANACO Juárez\, Henry Dunant 4505\, Ciudad Juárez\, Chihuahua\, 32340\, Mexico
END:VEVENT
BEGIN:VEVENT
DTSTART;TZID=UTC:20240216T120000
DTEND;TZID=UTC:20240216T160000
DTSTAMP:20260425T040523
CREATED:20240214T234326Z
LAST-MODIFIED:20240214T234326Z
UID:6200-1708084800-1708099200@canacojuarez.com
SUMMARY:Curso: Complemento Carta Porte
DESCRIPTION:
URL:https://canacojuarez.com/curso/curso-complemento-carta-porte/
LOCATION:CANACO Juárez\, Henry Dunant 4505\, Ciudad Juárez\, Chihuahua\, 32340\, Mexico
END:VEVENT
BEGIN:VEVENT
DTSTART;TZID=UTC:20240220T100000
DTEND;TZID=UTC:20240220T120000
DTSTAMP:20260425T040523
CREATED:20240223T202238Z
LAST-MODIFIED:20240223T202238Z
UID:6206-1708423200-1708430400@canacojuarez.com
SUMMARY:Como maximizar mi pensión IMSS ley 73
DESCRIPTION:  \nOBJETIVO GENERAL.\nQue el participante conozca los grandes beneficios de Pensión que la Ley 73 del Seguro Social LSS le ofrece y como maximizarlos. Conocerá también las últimas reformas al sistema de pensiones vigente de Ley 97\, con lo cual estará en la posición de aprovechar en lo personal estos beneficios y/o asesorar a sus colaboradores para obtenerlos. \nDIRIGIDA A\nPersonas que estén en edad o tengan colaboradores entre 55 y 60 años\, contadores\, abogados\, gerentes de RRHH\, gerentes\, empresarios y en general profesionistas interesados en el tema.
URL:https://canacojuarez.com/curso/como-maximizar-mi-pension-imss-ley-73/
LOCATION:CANACO Juárez\, Henry Dunant 4505\, Ciudad Juárez\, Chihuahua\, 32340\, Mexico
END:VEVENT
END:VCALENDAR