BEGIN:VCALENDAR
VERSION:2.0
PRODID:-//CANACO Servitur Juárez - ECPv6.15.20//NONSGML v1.0//EN
CALSCALE:GREGORIAN
METHOD:PUBLISH
X-ORIGINAL-URL:https://canacojuarez.com
X-WR-CALDESC:Eventos para CANACO Servitur Juárez
REFRESH-INTERVAL;VALUE=DURATION:PT1H
X-Robots-Tag:noindex
X-PUBLISHED-TTL:PT1H
BEGIN:VTIMEZONE
TZID:UTC
BEGIN:STANDARD
TZOFFSETFROM:+0000
TZOFFSETTO:+0000
TZNAME:UTC
DTSTART:20230101T000000
END:STANDARD
END:VTIMEZONE
BEGIN:VEVENT
DTSTART;TZID=UTC:20240308T090000
DTEND;TZID=UTC:20240308T110000
DTSTAMP:20260425T023826
CREATED:20240223T203037Z
LAST-MODIFIED:20240223T203037Z
UID:6212-1709888400-1709895600@canacojuarez.com
SUMMARY:Nueva presentación del IVA en la plataforma del SAT
DESCRIPTION:OBJETIVO GENERAL.\nDar a conocer al participante la nueva presentación del Impuesto al Valor Agregado (IVA) en la plataforma del SAT y las posibles multas por la presentación con errores. \nTEMARIO.\n• Actos y actividades del IVA\n• Tasa 0% y exentos ¿es lo mismo?\n• Requisitos para que el IVA sea acreditable\n• Multas por errores en la presentación\n• Papeles de trabajo\n• Formato de presentación
URL:https://canacojuarez.com/curso/nueva-presentacion-del-iva-en-la-plataforma-del-sat/
LOCATION:CANACO Juárez\, Henry Dunant 4505\, Ciudad Juárez\, Chihuahua\, 32340\, Mexico
END:VEVENT
BEGIN:VEVENT
DTSTART;TZID=UTC:20240319T120000
DTEND;TZID=UTC:20240319T130000
DTSTAMP:20260425T023826
CREATED:20240306T003703Z
LAST-MODIFIED:20240306T003703Z
UID:6222-1710849600-1710853200@canacojuarez.com
SUMMARY:Habilidades de liderazgo
DESCRIPTION:
URL:https://canacojuarez.com/curso/habilidades-de-liderazgo/
LOCATION:CANACO Juárez\, Henry Dunant 4505\, Ciudad Juárez\, Chihuahua\, 32340\, Mexico
END:VEVENT
BEGIN:VEVENT
DTSTART;TZID=UTC:20240322T100000
DTEND;TZID=UTC:20240322T110000
DTSTAMP:20260425T023826
CREATED:20240306T003838Z
LAST-MODIFIED:20240306T003838Z
UID:6224-1711101600-1711105200@canacojuarez.com
SUMMARY:Violencia laboral
DESCRIPTION:
URL:https://canacojuarez.com/curso/violencia-laboral/
LOCATION:CANACO Juárez\, Henry Dunant 4505\, Ciudad Juárez\, Chihuahua\, 32340\, Mexico
END:VEVENT
END:VCALENDAR