BEGIN:VCALENDAR
VERSION:2.0
PRODID:-//CANACO Servitur Juárez - ECPv6.15.20//NONSGML v1.0//EN
CALSCALE:GREGORIAN
METHOD:PUBLISH
X-ORIGINAL-URL:https://canacojuarez.com
X-WR-CALDESC:Eventos para CANACO Servitur Juárez
REFRESH-INTERVAL;VALUE=DURATION:PT1H
X-Robots-Tag:noindex
X-PUBLISHED-TTL:PT1H
BEGIN:VTIMEZONE
TZID:UTC
BEGIN:STANDARD
TZOFFSETFROM:+0000
TZOFFSETTO:+0000
TZNAME:UTC
DTSTART:20240101T000000
END:STANDARD
END:VTIMEZONE
BEGIN:VEVENT
DTSTART;TZID=UTC:20250212T100000
DTEND;TZID=UTC:20250212T120000
DTSTAMP:20260424T093550
CREATED:20250203T031758Z
LAST-MODIFIED:20250203T031758Z
UID:6946-1739354400-1739361600@canacojuarez.com
SUMMARY:Manejo de accidentes de trabajo y llenado de formatos ST7 y ST9 IMSS
DESCRIPTION:
URL:https://canacojuarez.com/curso/manejo-de-accidentes-de-trabajo-y-llenado-de-formatos-st7-y-st9-imss/
LOCATION:CANACO Juárez\, Henry Dunant 4505\, Ciudad Juárez\, Chihuahua\, 32340\, Mexico
END:VEVENT
BEGIN:VEVENT
DTSTART;TZID=UTC:20250218T090000
DTEND;TZID=UTC:20250218T120000
DTSTAMP:20260424T093550
CREATED:20250203T032423Z
LAST-MODIFIED:20250203T032515Z
UID:6949-1739869200-1739880000@canacojuarez.com
SUMMARY:Conquista con tu servicio
DESCRIPTION:
URL:https://canacojuarez.com/curso/conquista-con-tu-servicio/
LOCATION:CANACO Juárez\, Henry Dunant 4505\, Ciudad Juárez\, Chihuahua\, 32340\, Mexico
END:VEVENT
BEGIN:VEVENT
DTSTART;TZID=UTC:20250219T100000
DTEND;TZID=UTC:20250219T120000
DTSTAMP:20260424T093550
CREATED:20250203T032628Z
LAST-MODIFIED:20250203T032852Z
UID:6952-1739959200-1739966400@canacojuarez.com
SUMMARY:Contabilidad para empresarios
DESCRIPTION:
URL:https://canacojuarez.com/curso/contabilidad-para-empresarios/
LOCATION:CANACO Juárez\, Henry Dunant 4505\, Ciudad Juárez\, Chihuahua\, 32340\, Mexico
END:VEVENT
BEGIN:VEVENT
DTSTART;TZID=UTC:20250220T090000
DTEND;TZID=UTC:20250220T120000
DTSTAMP:20260424T093550
CREATED:20250203T033006Z
LAST-MODIFIED:20250203T033006Z
UID:6955-1740042000-1740052800@canacojuarez.com
SUMMARY:Formación de equipos de alto rendimiento
DESCRIPTION:
URL:https://canacojuarez.com/curso/formacion-de-equipos-de-alto-rendimiento/
LOCATION:CANACO Juárez\, Henry Dunant 4505\, Ciudad Juárez\, Chihuahua\, 32340\, Mexico
END:VEVENT
BEGIN:VEVENT
DTSTART;TZID=UTC:20250226T100000
DTEND;TZID=UTC:20250226T120000
DTSTAMP:20260424T093550
CREATED:20250203T033200Z
LAST-MODIFIED:20250203T033200Z
UID:6958-1740564000-1740571200@canacojuarez.com
SUMMARY:Oficina Virtual del SAT
DESCRIPTION:
URL:https://canacojuarez.com/curso/oficina-virtual-del-sat/
LOCATION:CANACO Juárez\, Henry Dunant 4505\, Ciudad Juárez\, Chihuahua\, 32340\, Mexico
END:VEVENT
BEGIN:VEVENT
DTSTART;TZID=UTC:20250227T090000
DTEND;TZID=UTC:20250227T120000
DTSTAMP:20260424T093550
CREATED:20250203T033353Z
LAST-MODIFIED:20250203T033353Z
UID:6961-1740646800-1740657600@canacojuarez.com
SUMMARY:Creación de valor con lujo: diseñando experiencias que trascienden lo ordinario
DESCRIPTION:
URL:https://canacojuarez.com/curso/creacion-de-valor-con-lujo-disenando-experiencias-que-trascienden-lo-ordinario/
LOCATION:CANACO Juárez\, Henry Dunant 4505\, Ciudad Juárez\, Chihuahua\, 32340\, Mexico
END:VEVENT
END:VCALENDAR